BEGIN:VCALENDAR
PRODID:-//PUBBLE//agenda//NL
VERSION:2.0
METHOD:PUBLISH
BEGIN:VEVENT
DTSTART:20260628T140000Z
DTEND:20260628T160000Z
DTSTAMP:20260422T133916Z
UID:3850c5a7-081d-4a45-9478-b294967246ed
CREATED:20260422T133916Z
NAME:Ontmoet & groet bestsellerauteur M.J. Arlidge dehavenloods.nl
X-WR-CALNAME:Ontmoet & groet bestsellerauteur M.J. Arlidge
X-ALT-DESC;FMTTYPE=text/html:<a href='/agenda/2026/6/28/ontmoet-groet-bestsellerauteur-m-j-arlidge-64201'>/agenda/2026/6/28/ontmoet-groet-bestsellerauteur-m-j-arlidge-64201</a> || <p>Bestsellerauteur<strong>&nbsp;M.J. Arlidge</strong> signeert zijn nieuwe thriller <em>Uit de as</em> en ander werk op de afdeling literatuur van Boekhandel Donner.&nbsp;</p><p>Toegang vrij - zonder reserveren </p>
DESCRIPTION:<a href='/agenda/2026/6/28/ontmoet-groet-bestsellerauteur-m-j-arlidge-64201'>/agenda/2026/6/28/ontmoet-groet-bestsellerauteur-m-j-arlidge-64201</a> || <p>Bestsellerauteur<strong>&nbsp;M.J. Arlidge</strong> signeert zijn nieuwe thriller <em>Uit de as</em> en ander werk op de afdeling literatuur van Boekhandel Donner.&nbsp;</p><p>Toegang vrij - zonder reserveren </p>
LAST-MODIFIED:20260422T133916Z
LOCATION: Boekhandel Donner | Coolsingel 129 Rotterdam
SEQUENCE:0
STATUS:CONFIRMED
SUMMARY:Ontmoet & groet bestsellerauteur M.J. Arlidge
TRANSP:OPAQUE
END:VEVENT
END:VCALENDAR
