BEGIN:VCALENDAR
PRODID:-//PUBBLE//agenda//NL
VERSION:2.0
METHOD:PUBLISH
BEGIN:VEVENT
DTSTART:20260628T110000Z
DTEND:20260628T130000Z
DTSTAMP:20260422T133752Z
UID:17e029d5-e3ff-4040-b47f-fc72014ee928
CREATED:20260422T133752Z
NAME:Ode aan Nanne Tepper dehavenloods.nl
X-WR-CALNAME:Ode aan Nanne Tepper
X-ALT-DESC;FMTTYPE=text/html:<a href='/agenda/2026/6/28/ode-aan-nanne-tepper-64200'>/agenda/2026/6/28/ode-aan-nanne-tepper-64200</a> || <p><strong>Met Lodewijk Verduin, Marcel Möring, Gijs Wilbrink en Lena van Tijen.</strong></p><p>Op zondag 28 juni brengt Boekhandel Donner een ode aan Nanne Tepper. Tijdens deze middag brengen schrijvers <strong>Marcel Möring</strong>, <strong>Gijs Wilbrink</strong> en <strong>Lena van Tijen</strong> ieder op eigen wijze een eerbetoon aan deze eigenzinnige en geliefde schrijver.</p><p>Aanleiding voor het evenement is de verschijning van <em>Zo rijk en allesverpletterend</em>, de biografie van Nanne Tepper, geschreven door <strong>Lodewijk Verduin</strong>. Verduin verzorgt een inleiding op zijn biografie, waarin hij ingaat op het leven, het werk en de blijvende betekenis van Tepper.</p><p>Een literaire middag ter ere van een schrijver die met zijn werk een onuitwisbare indruk heeft achtergelaten.</p><p>Toegang gratis - met reserveren </p>
DESCRIPTION:<a href='/agenda/2026/6/28/ode-aan-nanne-tepper-64200'>/agenda/2026/6/28/ode-aan-nanne-tepper-64200</a> || <p><strong>Met Lodewijk Verduin, Marcel Möring, Gijs Wilbrink en Lena van Tijen.</strong></p><p>Op zondag 28 juni brengt Boekhandel Donner een ode aan Nanne Tepper. Tijdens deze middag brengen schrijvers <strong>Marcel Möring</strong>, <strong>Gijs Wilbrink</strong> en <strong>Lena van Tijen</strong> ieder op eigen wijze een eerbetoon aan deze eigenzinnige en geliefde schrijver.</p><p>Aanleiding voor het evenement is de verschijning van <em>Zo rijk en allesverpletterend</em>, de biografie van Nanne Tepper, geschreven door <strong>Lodewijk Verduin</strong>. Verduin verzorgt een inleiding op zijn biografie, waarin hij ingaat op het leven, het werk en de blijvende betekenis van Tepper.</p><p>Een literaire middag ter ere van een schrijver die met zijn werk een onuitwisbare indruk heeft achtergelaten.</p><p>Toegang gratis - met reserveren </p>
LAST-MODIFIED:20260422T133752Z
LOCATION: Boekhandel Donner | Coolsingel 129 Rotterdam
SEQUENCE:0
STATUS:CONFIRMED
SUMMARY:Ode aan Nanne Tepper
TRANSP:OPAQUE
END:VEVENT
END:VCALENDAR
