BEGIN:VCALENDAR
PRODID:-//PUBBLE//agenda//NL
VERSION:2.0
METHOD:PUBLISH
BEGIN:VEVENT
DTSTART:20260620T130000Z
DTEND:20260620T143000Z
DTSTAMP:20260422T133606Z
UID:e2dc41ef-eb10-45ba-96cd-7d1a06bcdd12
CREATED:20260422T133606Z
NAME:Boekpresentatie Govert Schilling en Adriaan Bijloo dehavenloods.nl
X-WR-CALNAME:Boekpresentatie Govert Schilling en Adriaan Bijloo
X-ALT-DESC;FMTTYPE=text/html:<a href='/agenda/2026/6/20/boekpresentatie-govert-schilling-en-adriaan-bijloo-64198'>/agenda/2026/6/20/boekpresentatie-govert-schilling-en-adriaan-bijloo-64198</a> || <p>Wetenschapsjournalist <strong>Govert Schilling</strong> en illustrator<strong>&nbsp;Adriaan Bijloo</strong> presenteren hun graphic novel over buitenaards leven <em>Exovida</em>.</p><p>Bijloo en Schilling verweven feiten en fictie, historische verhalen en hedendaagse inzichten, en een grote verscheidenheid aan tekenstijlen in een spannend, informatief en gelaagd avontuur rond de grootste vraag die de mensheid zich ooit heeft gesteld: zij wij alleen in het heelal? Met aansluitend signeren.</p><p>Toegang gratis - met reserveren </p>
DESCRIPTION:<a href='/agenda/2026/6/20/boekpresentatie-govert-schilling-en-adriaan-bijloo-64198'>/agenda/2026/6/20/boekpresentatie-govert-schilling-en-adriaan-bijloo-64198</a> || <p>Wetenschapsjournalist <strong>Govert Schilling</strong> en illustrator<strong>&nbsp;Adriaan Bijloo</strong> presenteren hun graphic novel over buitenaards leven <em>Exovida</em>.</p><p>Bijloo en Schilling verweven feiten en fictie, historische verhalen en hedendaagse inzichten, en een grote verscheidenheid aan tekenstijlen in een spannend, informatief en gelaagd avontuur rond de grootste vraag die de mensheid zich ooit heeft gesteld: zij wij alleen in het heelal? Met aansluitend signeren.</p><p>Toegang gratis - met reserveren </p>
LAST-MODIFIED:20260422T133606Z
LOCATION: Boekhandel Donner | Coolsingel 129 Rotterdam
SEQUENCE:0
STATUS:CONFIRMED
SUMMARY:Boekpresentatie Govert Schilling en Adriaan Bijloo
TRANSP:OPAQUE
END:VEVENT
END:VCALENDAR
