BEGIN:VCALENDAR
PRODID:-//PUBBLE//agenda//NL
VERSION:2.0
METHOD:PUBLISH
BEGIN:VEVENT
DTSTART:20260607T130000Z
DTEND:20260607T143000Z
DTSTAMP:20260422T132933Z
UID:ce20ceef-dd54-422c-98e3-6a9311d976b6
CREATED:20260422T132933Z
NAME:Lezing Nederlandse Boekhandelsprijs winnaar Mark H. Stokmans over De Byzantijn dehavenloods.nl
X-WR-CALNAME:Lezing Nederlandse Boekhandelsprijs winnaar Mark H. Stokmans over De Byzantijn
X-ALT-DESC;FMTTYPE=text/html:<a href='/agenda/2026/6/7/lezing-nederlandse-boekhandelsprijs-winnaar-mark-h-stokmans-over-de-byzantijn-64197'>/agenda/2026/6/7/lezing-nederlandse-boekhandelsprijs-winnaar-mark-h-stokmans-over-de-byzantijn-64197</a> || <p>Tijdens de lezing over <em>De Byzantijn</em> vertelt <strong>Mark H. Stokmans</strong> over de roman zelf, maar vooral over de verhalen erachter: de motivatie en inspiratie en invloeden die aan de roman hebben bijgedragen, de research naar de Italiaans-Venetiaanse geschiedenis van de 20e eeuw, de interviews met Venetianen, muziek, en natuurlijk de kunst en cultuur die de roman mede gevormd hebben.</p><p>Bij de lezing gebruikt de auteur foto’s, video en muziek. Het belooft een dynamische, informatieve en inspirerende middag te worden.</p><p>Toegang gratis - aanmelden verplicht</p>
DESCRIPTION:<a href='/agenda/2026/6/7/lezing-nederlandse-boekhandelsprijs-winnaar-mark-h-stokmans-over-de-byzantijn-64197'>/agenda/2026/6/7/lezing-nederlandse-boekhandelsprijs-winnaar-mark-h-stokmans-over-de-byzantijn-64197</a> || <p>Tijdens de lezing over <em>De Byzantijn</em> vertelt <strong>Mark H. Stokmans</strong> over de roman zelf, maar vooral over de verhalen erachter: de motivatie en inspiratie en invloeden die aan de roman hebben bijgedragen, de research naar de Italiaans-Venetiaanse geschiedenis van de 20e eeuw, de interviews met Venetianen, muziek, en natuurlijk de kunst en cultuur die de roman mede gevormd hebben.</p><p>Bij de lezing gebruikt de auteur foto’s, video en muziek. Het belooft een dynamische, informatieve en inspirerende middag te worden.</p><p>Toegang gratis - aanmelden verplicht</p>
LAST-MODIFIED:20260422T132933Z
LOCATION: Boekhandel Donner | Coolsingel 129 Rotterdam
SEQUENCE:0
STATUS:CONFIRMED
SUMMARY:Lezing Nederlandse Boekhandelsprijs winnaar Mark H. Stokmans over De Byzantijn
TRANSP:OPAQUE
END:VEVENT
END:VCALENDAR
