BEGIN:VCALENDAR
PRODID:-//PUBBLE//agenda//NL
VERSION:2.0
METHOD:PUBLISH
BEGIN:VEVENT
DTSTART:20260531T133000Z
DTEND:20260531T150000Z
DTSTAMP:20260422T133230Z
UID:88dd861d-c4f9-4cb7-aaa6-168b8a8f1d29
CREATED:20260422T133230Z
NAME:Lezing Vincent Luyendijk over De fijne stad - Inspiratieboek voor de gezonde leefomgeving dehavenloods.nl
X-WR-CALNAME:Lezing Vincent Luyendijk over De fijne stad - Inspiratieboek voor de gezonde leefomgeving
X-ALT-DESC;FMTTYPE=text/html:<a href='/agenda/2026/5/31/lezing-vincent-luyendijk-over-de-fijne-stad-inspiratieboek-voor-de-gezonde-leefomgeving-64196'>/agenda/2026/5/31/lezing-vincent-luyendijk-over-de-fijne-stad-inspiratieboek-voor-de-gezonde-leefomgeving-64196</a> || <p>“Wat maakt een stad écht fijn om in te wonen, te werken en te leven? In zijn inspiratieboek <em>De fijne stad</em> deelt <strong>Vincent Luyendijk&nbsp;</strong>verrassende voorbeelden van plekken in binnen- en buitenland waar het al lukt. Hij laat zien hoe we onze straten, pleinen en wijken kunnen omtoveren tot gezonde, groene en prettige leefomgevingen. Tijdens deze lezing ontdekt u hoe we door anders te kijken en met goede ideeën samen de stad van morgen creëren. Laat u inspireren door een optimistische blik op de stad, met extra aandacht voor Rotterdam.” Met aansluitend signeren.</p><p>Toegang gratis - reserveren verplicht &nbsp;</p>
DESCRIPTION:<a href='/agenda/2026/5/31/lezing-vincent-luyendijk-over-de-fijne-stad-inspiratieboek-voor-de-gezonde-leefomgeving-64196'>/agenda/2026/5/31/lezing-vincent-luyendijk-over-de-fijne-stad-inspiratieboek-voor-de-gezonde-leefomgeving-64196</a> || <p>“Wat maakt een stad écht fijn om in te wonen, te werken en te leven? In zijn inspiratieboek <em>De fijne stad</em> deelt <strong>Vincent Luyendijk&nbsp;</strong>verrassende voorbeelden van plekken in binnen- en buitenland waar het al lukt. Hij laat zien hoe we onze straten, pleinen en wijken kunnen omtoveren tot gezonde, groene en prettige leefomgevingen. Tijdens deze lezing ontdekt u hoe we door anders te kijken en met goede ideeën samen de stad van morgen creëren. Laat u inspireren door een optimistische blik op de stad, met extra aandacht voor Rotterdam.” Met aansluitend signeren.</p><p>Toegang gratis - reserveren verplicht &nbsp;</p>
LAST-MODIFIED:20260422T133230Z
LOCATION: Boekhandel Donner | Coolsingel 129 Rotterdam
SEQUENCE:0
STATUS:CONFIRMED
SUMMARY:Lezing Vincent Luyendijk over De fijne stad - Inspiratieboek voor de gezonde leefomgeving
TRANSP:OPAQUE
END:VEVENT
END:VCALENDAR
