BEGIN:VCALENDAR
PRODID:-//PUBBLE//agenda//NL
VERSION:2.0
METHOD:PUBLISH
BEGIN:VEVENT
DTSTART:20260531T110000Z
DTEND:20260531T123000Z
DTSTAMP:20260422T133712Z
UID:a31fc4b4-e844-4882-9d32-88a53c261ede
CREATED:20260422T133712Z
NAME:Lezing Frits Gierstberg over Rotterdam in focus dehavenloods.nl
X-WR-CALNAME:Lezing Frits Gierstberg over Rotterdam in focus
X-ALT-DESC;FMTTYPE=text/html:<a href='/agenda/2026/5/31/lezing-frits-gierstberg-over-rotterdam-in-focus-64195'>/agenda/2026/5/31/lezing-frits-gierstberg-over-rotterdam-in-focus-64195</a> || <p><strong>Fotografie in de stad 1843-nu&nbsp;</strong></p><p><strong>Frits Gierstberg</strong>, medecurator van het boek en de gelijknamige tentoonstelling in het Nederlands Fotomuseum, zal in boekhandel Donner in Rotterdam vertellen over de totstandkoming van <em>Rotterdam in focus</em>. Met aansluitend signeren.&nbsp;</p><p>Toegang gratis - reserveren verplicht </p>
DESCRIPTION:<a href='/agenda/2026/5/31/lezing-frits-gierstberg-over-rotterdam-in-focus-64195'>/agenda/2026/5/31/lezing-frits-gierstberg-over-rotterdam-in-focus-64195</a> || <p><strong>Fotografie in de stad 1843-nu&nbsp;</strong></p><p><strong>Frits Gierstberg</strong>, medecurator van het boek en de gelijknamige tentoonstelling in het Nederlands Fotomuseum, zal in boekhandel Donner in Rotterdam vertellen over de totstandkoming van <em>Rotterdam in focus</em>. Met aansluitend signeren.&nbsp;</p><p>Toegang gratis - reserveren verplicht </p>
LAST-MODIFIED:20260422T133712Z
LOCATION: Boekhandel Donner | Coolsingel 129 Rotterdam
SEQUENCE:0
STATUS:CONFIRMED
SUMMARY:Lezing Frits Gierstberg over Rotterdam in focus
TRANSP:OPAQUE
END:VEVENT
END:VCALENDAR
