BEGIN:VCALENDAR
PRODID:-//PUBBLE//agenda//NL
VERSION:2.0
METHOD:PUBLISH
BEGIN:VEVENT
DTSTART:20260530T130000Z
DTEND:20260530T143000Z
DTSTAMP:20260422T133316Z
UID:da789300-eb93-4469-b0f8-b6d41e0d5d67
CREATED:20260422T133316Z
NAME:Dieuwertje Mertens en Arie Storm over verraad en verbeelding, intriges en schandalen dehavenloods.nl
X-WR-CALNAME:Dieuwertje Mertens en Arie Storm over verraad en verbeelding, intriges en schandalen
X-ALT-DESC;FMTTYPE=text/html:<a href='/agenda/2026/5/30/dieuwertje-mertens-en-arie-storm-over-verraad-en-verbeelding-intriges-en-schandalen-64194'>/agenda/2026/5/30/dieuwertje-mertens-en-arie-storm-over-verraad-en-verbeelding-intriges-en-schandalen-64194</a> || <p><strong>Dieuwertje Mertens</strong> rekt in haar gewaagde roman <em>Kiefers hand</em> de grenzen van verraad en verbeelding op en gaat met collega<strong>&nbsp;Arie Storm</strong> in gesprek over zijn nieuwste roman <em>Macca</em>, dat een plot kent vol intriges, relatieperikelen, afluisterpraktijken en uitgeefschandalen. Met aansluitend signeren.</p><p>Toegang gratis - aanmelden verplicht </p>
DESCRIPTION:<a href='/agenda/2026/5/30/dieuwertje-mertens-en-arie-storm-over-verraad-en-verbeelding-intriges-en-schandalen-64194'>/agenda/2026/5/30/dieuwertje-mertens-en-arie-storm-over-verraad-en-verbeelding-intriges-en-schandalen-64194</a> || <p><strong>Dieuwertje Mertens</strong> rekt in haar gewaagde roman <em>Kiefers hand</em> de grenzen van verraad en verbeelding op en gaat met collega<strong>&nbsp;Arie Storm</strong> in gesprek over zijn nieuwste roman <em>Macca</em>, dat een plot kent vol intriges, relatieperikelen, afluisterpraktijken en uitgeefschandalen. Met aansluitend signeren.</p><p>Toegang gratis - aanmelden verplicht </p>
LAST-MODIFIED:20260422T133316Z
LOCATION: Boekhandel Donner | Coolsingel 129 Rotterdam
SEQUENCE:0
STATUS:CONFIRMED
SUMMARY:Dieuwertje Mertens en Arie Storm over verraad en verbeelding, intriges en schandalen
TRANSP:OPAQUE
END:VEVENT
END:VCALENDAR
