BEGIN:VCALENDAR
PRODID:-//PUBBLE//agenda//NL
VERSION:2.0
METHOD:PUBLISH
BEGIN:VEVENT
DTSTART:20260524T130000Z
DTEND:20260524T143000Z
DTSTAMP:20260422T133316Z
UID:b60a7d18-41e0-4373-9b9c-99b20547e05b
CREATED:20260422T133316Z
NAME:Tatjana Almuli en Daan Borrel met elkaar in gesprek dehavenloods.nl
X-WR-CALNAME:Tatjana Almuli en Daan Borrel met elkaar in gesprek
X-ALT-DESC;FMTTYPE=text/html:<a href='/agenda/2026/5/24/tatjana-almuli-en-daan-borrel-met-elkaar-in-gesprek-64193'>/agenda/2026/5/24/tatjana-almuli-en-daan-borrel-met-elkaar-in-gesprek-64193</a> || <p><strong>Een leuker seksleven dat niet in de slaapkamer begint, maar in de politiek?&nbsp;</strong></p><p><strong>Tatjana Almuli</strong> en <strong>Daan Borrel</strong> spreken elkaar over hun nieuwe boeken <em>Tot lijf gemaakt</em> en <em>Rechts verpest onze seks</em>. Beiden doen een politieke oproep tot radicale ongehoorzaamheid: Almuli onderzoekt in haar essay hoe schoonheidsnormen niet alleen ons zelfbeeld beïnvloeden, maar ook onze autonomie en levensruimte beperken. Daan Borrel beschrijft hoe jarenlang conservatief en neoliberaal beleid directe invloed heeft op hoe vrij, intiem en verbonden we ons voelen. Met aansluitend signeren.</p><p>Toegang gratis - aanmelden verplicht </p>
DESCRIPTION:<a href='/agenda/2026/5/24/tatjana-almuli-en-daan-borrel-met-elkaar-in-gesprek-64193'>/agenda/2026/5/24/tatjana-almuli-en-daan-borrel-met-elkaar-in-gesprek-64193</a> || <p><strong>Een leuker seksleven dat niet in de slaapkamer begint, maar in de politiek?&nbsp;</strong></p><p><strong>Tatjana Almuli</strong> en <strong>Daan Borrel</strong> spreken elkaar over hun nieuwe boeken <em>Tot lijf gemaakt</em> en <em>Rechts verpest onze seks</em>. Beiden doen een politieke oproep tot radicale ongehoorzaamheid: Almuli onderzoekt in haar essay hoe schoonheidsnormen niet alleen ons zelfbeeld beïnvloeden, maar ook onze autonomie en levensruimte beperken. Daan Borrel beschrijft hoe jarenlang conservatief en neoliberaal beleid directe invloed heeft op hoe vrij, intiem en verbonden we ons voelen. Met aansluitend signeren.</p><p>Toegang gratis - aanmelden verplicht </p>
LAST-MODIFIED:20260422T133316Z
LOCATION: Boekhandel Donner | Coolsingel 129 Rotterdam
SEQUENCE:0
STATUS:CONFIRMED
SUMMARY:Tatjana Almuli en Daan Borrel met elkaar in gesprek
TRANSP:OPAQUE
END:VEVENT
END:VCALENDAR
