BEGIN:VCALENDAR
PRODID:-//PUBBLE//agenda//NL
VERSION:2.0
METHOD:PUBLISH
BEGIN:VEVENT
DTSTART:20260523T130000Z
DTEND:20260523T143000Z
DTSTAMP:20260422T133035Z
UID:165c5be9-6d76-4683-9296-08b188a359cb
CREATED:20260422T133035Z
NAME:Jess Walter over Zo ver heen & een verdeeld Amerika dehavenloods.nl
X-WR-CALNAME:Jess Walter over Zo ver heen & een verdeeld Amerika
X-ALT-DESC;FMTTYPE=text/html:<a href='/agenda/2026/5/23/jess-walter-over-zo-ver-heen-een-verdeeld-amerika-64189'>/agenda/2026/5/23/jess-walter-over-zo-ver-heen-een-verdeeld-amerika-64189</a> || <p><strong>Jess Walter</strong> heeft veel prijzen gewonnen met zijn romans en brak wereldwijd door met Schitterende ruïnes. Hij wordt geïnterviewd door <strong>Persis Bekkering</strong>, schrijver en literatuurrecensent voor NRC Handelsblad, over zijn nieuwe roman <em>Zo ver heen&nbsp;</em>en zijn kijk op het Amerika van nu.</p><p>(Engels gesproken)</p><p>Toegang gratis - reserveren verplicht </p>
DESCRIPTION:<a href='/agenda/2026/5/23/jess-walter-over-zo-ver-heen-een-verdeeld-amerika-64189'>/agenda/2026/5/23/jess-walter-over-zo-ver-heen-een-verdeeld-amerika-64189</a> || <p><strong>Jess Walter</strong> heeft veel prijzen gewonnen met zijn romans en brak wereldwijd door met Schitterende ruïnes. Hij wordt geïnterviewd door <strong>Persis Bekkering</strong>, schrijver en literatuurrecensent voor NRC Handelsblad, over zijn nieuwe roman <em>Zo ver heen&nbsp;</em>en zijn kijk op het Amerika van nu.</p><p>(Engels gesproken)</p><p>Toegang gratis - reserveren verplicht </p>
LAST-MODIFIED:20260422T133035Z
LOCATION: Boekhandel Donner | Coolsingel 129 Rotterdam
SEQUENCE:0
STATUS:CONFIRMED
SUMMARY:Jess Walter over Zo ver heen & een verdeeld Amerika
TRANSP:OPAQUE
END:VEVENT
END:VCALENDAR
