BEGIN:VCALENDAR
PRODID:-//PUBBLE//agenda//NL
VERSION:2.0
METHOD:PUBLISH
BEGIN:VEVENT
DTSTART:20260522T130000Z
DTEND:20260522T143000Z
DTSTAMP:20260422T133943Z
UID:c0872e6f-cbff-430b-8060-bc1a674baa03
CREATED:20260422T133943Z
NAME:Mohammed Benzakour over Het lied van Agilouz dehavenloods.nl
X-WR-CALNAME:Mohammed Benzakour over Het lied van Agilouz
X-ALT-DESC;FMTTYPE=text/html:<a href='/agenda/2026/5/22/mohammed-benzakour-over-het-lied-van-agilouz-64188'>/agenda/2026/5/22/mohammed-benzakour-over-het-lied-van-agilouz-64188</a> || <p>Op deze middag gaat <strong>Mohammed Benzakour</strong> in gesprek in het kader van zijn nieuwste roman <em>Het lied van Agilouz - Hoe ik vogels bevrijdde in Indonesië</em>. Nadat zijn moeder een herseninfarct heeft gehad, neemt Mohammed Benzakour het vogelen op. Als hij erachter komt dat in Indonesië meer vogels in gevangenschap leven dan in vrijheid, pakt hij zijn koffers en reist ernaartoe.</p><p>Op deze middag gaat Mohammed Benzakour in gesprek over zijn roman en over vogels en vogelen. Aansluitend zal hij signeren.</p><p>Toegang gratis - reserveren verplicht </p>
DESCRIPTION:<a href='/agenda/2026/5/22/mohammed-benzakour-over-het-lied-van-agilouz-64188'>/agenda/2026/5/22/mohammed-benzakour-over-het-lied-van-agilouz-64188</a> || <p>Op deze middag gaat <strong>Mohammed Benzakour</strong> in gesprek in het kader van zijn nieuwste roman <em>Het lied van Agilouz - Hoe ik vogels bevrijdde in Indonesië</em>. Nadat zijn moeder een herseninfarct heeft gehad, neemt Mohammed Benzakour het vogelen op. Als hij erachter komt dat in Indonesië meer vogels in gevangenschap leven dan in vrijheid, pakt hij zijn koffers en reist ernaartoe.</p><p>Op deze middag gaat Mohammed Benzakour in gesprek over zijn roman en over vogels en vogelen. Aansluitend zal hij signeren.</p><p>Toegang gratis - reserveren verplicht </p>
LAST-MODIFIED:20260422T133943Z
LOCATION: Boekhandel Donner | Coolsingel 129 Rotterdam
SEQUENCE:0
STATUS:CONFIRMED
SUMMARY:Mohammed Benzakour over Het lied van Agilouz
TRANSP:OPAQUE
END:VEVENT
END:VCALENDAR
