BEGIN:VCALENDAR
PRODID:-//PUBBLE//agenda//NL
VERSION:2.0
METHOD:PUBLISH
BEGIN:VEVENT
DTSTART:20260517T130000Z
DTEND:20260517T143000Z
DTSTAMP:20260422T133939Z
UID:249fa438-9c42-4878-bfce-bb0a6f2fe9cb
CREATED:20260422T133939Z
NAME:Paul Haenen over 50 jaar Margreet Dolman - Hoogtepunten uit een grensverkennend leven dehavenloods.nl
X-WR-CALNAME:Paul Haenen over 50 jaar Margreet Dolman - Hoogtepunten uit een grensverkennend leven
X-ALT-DESC;FMTTYPE=text/html:<a href='/agenda/2026/5/17/paul-haenen-over-50-jaar-margreet-dolman-hoogtepunten-uit-een-grensverkennend-leven-64187'>/agenda/2026/5/17/paul-haenen-over-50-jaar-margreet-dolman-hoogtepunten-uit-een-grensverkennend-leven-64187</a> || <p><strong>Paul Haenen</strong> wordt door <strong>Jet Sol&nbsp;</strong>geïnterviewd over <em>50 jaar Margreet Dolman - Hoogtepunten uit een grensverkennend leven</em>. Een humoristisch, vrolijk, literair en artistiek cadeauboek met o.a. mooie fragmenten, interviews, brieven, gedichten en verhalen, waarmee Dolman haar vijftigjarige jubileum markeert. Met aansluitend signeren.</p><p>Toegang gratis - aanmelden verplicht </p>
DESCRIPTION:<a href='/agenda/2026/5/17/paul-haenen-over-50-jaar-margreet-dolman-hoogtepunten-uit-een-grensverkennend-leven-64187'>/agenda/2026/5/17/paul-haenen-over-50-jaar-margreet-dolman-hoogtepunten-uit-een-grensverkennend-leven-64187</a> || <p><strong>Paul Haenen</strong> wordt door <strong>Jet Sol&nbsp;</strong>geïnterviewd over <em>50 jaar Margreet Dolman - Hoogtepunten uit een grensverkennend leven</em>. Een humoristisch, vrolijk, literair en artistiek cadeauboek met o.a. mooie fragmenten, interviews, brieven, gedichten en verhalen, waarmee Dolman haar vijftigjarige jubileum markeert. Met aansluitend signeren.</p><p>Toegang gratis - aanmelden verplicht </p>
LAST-MODIFIED:20260422T133939Z
LOCATION: Boekhandel Donner | Coolsingel 129 Rotterdam
SEQUENCE:0
STATUS:CONFIRMED
SUMMARY:Paul Haenen over 50 jaar Margreet Dolman - Hoogtepunten uit een grensverkennend leven
TRANSP:OPAQUE
END:VEVENT
END:VCALENDAR
