BEGIN:VCALENDAR
PRODID:-//PUBBLE//agenda//NL
VERSION:2.0
METHOD:PUBLISH
BEGIN:VEVENT
DTSTART:20260515T170000Z
DTEND:20260515T183000Z
DTSTAMP:20260422T133001Z
UID:94e611f4-0a76-4c5b-8966-eed52e5eae26
CREATED:20260422T133001Z
NAME:Ernest van der Kwast en Martijn Simons in gesprek dehavenloods.nl
X-WR-CALNAME:Ernest van der Kwast en Martijn Simons in gesprek
X-ALT-DESC;FMTTYPE=text/html:<a href='/agenda/2026/5/15/ernest-van-der-kwast-en-martijn-simons-in-gesprek-64186'>/agenda/2026/5/15/ernest-van-der-kwast-en-martijn-simons-in-gesprek-64186</a> || <p><strong>Ernest van der Kwast</strong> en <strong>Martijn Simons</strong> gaan in gesprek over hun nieuwe boeken <em>Schooljaren</em> en <em>Beste meneer Simons</em>. Ernest van der Kwast schreef met Schooljaren een roman gebaseerd op zijn eigen schooltijd op een school in Rotterdam. Martijn Simons geeft les op een school in Rotterdam en mailde een jaar lang met zijn (ex-)leerlingen over wat hen bezighoudt. Het resultaat is Beste meneer Simons.</p><p>Het gesprek wordt gemodereerd door <strong>Paula van Rooijen</strong>. Met aansluitend signeren.</p><p>Toegang gratis - met reserveren </p>
DESCRIPTION:<a href='/agenda/2026/5/15/ernest-van-der-kwast-en-martijn-simons-in-gesprek-64186'>/agenda/2026/5/15/ernest-van-der-kwast-en-martijn-simons-in-gesprek-64186</a> || <p><strong>Ernest van der Kwast</strong> en <strong>Martijn Simons</strong> gaan in gesprek over hun nieuwe boeken <em>Schooljaren</em> en <em>Beste meneer Simons</em>. Ernest van der Kwast schreef met Schooljaren een roman gebaseerd op zijn eigen schooltijd op een school in Rotterdam. Martijn Simons geeft les op een school in Rotterdam en mailde een jaar lang met zijn (ex-)leerlingen over wat hen bezighoudt. Het resultaat is Beste meneer Simons.</p><p>Het gesprek wordt gemodereerd door <strong>Paula van Rooijen</strong>. Met aansluitend signeren.</p><p>Toegang gratis - met reserveren </p>
LAST-MODIFIED:20260422T133001Z
LOCATION: Boekhandel Donner | Coolsingel 129 Rotterdam
SEQUENCE:0
STATUS:CONFIRMED
SUMMARY:Ernest van der Kwast en Martijn Simons in gesprek
TRANSP:OPAQUE
END:VEVENT
END:VCALENDAR
