BEGIN:VCALENDAR
PRODID:-//PUBBLE//agenda//NL
VERSION:2.0
METHOD:PUBLISH
BEGIN:VEVENT
DTSTART:20260510T130000Z
DTEND:20260510T143000Z
DTSTAMP:20260422T133402Z
UID:e0201947-8178-4d37-9876-9420a7bbcd1b
CREATED:20260422T133402Z
NAME:Alek Dabrowski in gesprek met Astrid Haerens en Yanaika Zomer dehavenloods.nl
X-WR-CALNAME:Alek Dabrowski in gesprek met Astrid Haerens en Yanaika Zomer
X-ALT-DESC;FMTTYPE=text/html:<a href='/agenda/2026/5/10/alek-dabrowski-in-gesprek-met-astrid-haerens-en-yanaika-zomer-64184'>/agenda/2026/5/10/alek-dabrowski-in-gesprek-met-astrid-haerens-en-yanaika-zomer-64184</a> || <p><strong>Alek Dabrowski</strong> gaat in gesprek met <strong>Astrid Haerens</strong> over haar tweede roman <em>Erosie</em> en met <strong>Yanaika Zomer</strong> over haar debuutroman <em>Heremietdagen</em>. Met aansluitend signeren.&nbsp;</p><p>Toegang gratis - met reserveren </p>
DESCRIPTION:<a href='/agenda/2026/5/10/alek-dabrowski-in-gesprek-met-astrid-haerens-en-yanaika-zomer-64184'>/agenda/2026/5/10/alek-dabrowski-in-gesprek-met-astrid-haerens-en-yanaika-zomer-64184</a> || <p><strong>Alek Dabrowski</strong> gaat in gesprek met <strong>Astrid Haerens</strong> over haar tweede roman <em>Erosie</em> en met <strong>Yanaika Zomer</strong> over haar debuutroman <em>Heremietdagen</em>. Met aansluitend signeren.&nbsp;</p><p>Toegang gratis - met reserveren </p>
LAST-MODIFIED:20260422T133402Z
LOCATION: Boekhandel Donner | Coolsingel 129 Rotterdam
SEQUENCE:0
STATUS:CONFIRMED
SUMMARY:Alek Dabrowski in gesprek met Astrid Haerens en Yanaika Zomer
TRANSP:OPAQUE
END:VEVENT
END:VCALENDAR
