BEGIN:VCALENDAR
PRODID:-//PUBBLE//agenda//NL
VERSION:2.0
METHOD:PUBLISH
BEGIN:VEVENT
DTSTART:20260509T170000Z
DTEND:20260509T200000Z
DTSTAMP:20260422T133900Z
UID:16aee9bc-7f03-468e-9680-0b27e1bded3f
CREATED:20260422T133900Z
NAME:Mad Booktok Event #7 - Empress era: Crowned by stories dehavenloods.nl
X-WR-CALNAME:Mad Booktok Event #7 - Empress era: Crowned by stories
X-ALT-DESC;FMTTYPE=text/html:<a href='/agenda/2026/5/9/mad-booktok-event-7-empress-era-crowned-by-stories-64183'>/agenda/2026/5/9/mad-booktok-event-7-empress-era-crowned-by-stories-64183</a> || <p>In samenwerking met Mirelle is reading (@Mirelleisreading) zal op zaterdag 9 mei 2026 in Donner de zevende editie van het MAD Booktok Event plaatsvinden. Het thema van deze editie is Empress Era: Crowned by stories. Dus trek je meest keizerlijke kleding aan en kroon jezelf koning(in) van het (boeken)bal in Donner. Zien we je daar? <strong>Met Saara El-Arifi, Stephanie Holm, Marije van Mechelen en Pamela Sharon.</strong></p><p>Toegang €7,50 - reserveren verplicht </p>
DESCRIPTION:<a href='/agenda/2026/5/9/mad-booktok-event-7-empress-era-crowned-by-stories-64183'>/agenda/2026/5/9/mad-booktok-event-7-empress-era-crowned-by-stories-64183</a> || <p>In samenwerking met Mirelle is reading (@Mirelleisreading) zal op zaterdag 9 mei 2026 in Donner de zevende editie van het MAD Booktok Event plaatsvinden. Het thema van deze editie is Empress Era: Crowned by stories. Dus trek je meest keizerlijke kleding aan en kroon jezelf koning(in) van het (boeken)bal in Donner. Zien we je daar? <strong>Met Saara El-Arifi, Stephanie Holm, Marije van Mechelen en Pamela Sharon.</strong></p><p>Toegang €7,50 - reserveren verplicht </p>
LAST-MODIFIED:20260422T133900Z
LOCATION: Boekhandel Donner | Coolsingel 129 Rotterdam
SEQUENCE:0
STATUS:CONFIRMED
SUMMARY:Mad Booktok Event #7 - Empress era: Crowned by stories
TRANSP:OPAQUE
END:VEVENT
END:VCALENDAR
