BEGIN:VCALENDAR
PRODID:-//PUBBLE//agenda//NL
VERSION:2.0
METHOD:PUBLISH
BEGIN:VEVENT
DTSTART:20260507T173000Z
DTEND:20260507T193000Z
DTSTAMP:20260422T133129Z
UID:caffbf1d-6efe-4120-bc71-8ee790cfe88c
CREATED:20260422T133129Z
NAME:Miljuschka Witzenhausen interviewt Donna Hay over Sunshine, lemons & sea salt dehavenloods.nl
X-WR-CALNAME:Miljuschka Witzenhausen interviewt Donna Hay over Sunshine, lemons & sea salt
X-ALT-DESC;FMTTYPE=text/html:<a href='/agenda/2026/5/7/miljuschka-witzenhausen-interviewt-donna-hay-over-sunshine-lemons-sea-salt-64180'>/agenda/2026/5/7/miljuschka-witzenhausen-interviewt-donna-hay-over-sunshine-lemons-sea-salt-64180</a> || <p><strong>Donna Hay</strong>, de favoriete en meest vertrouwde thuiskok van Australië en een internationaal fenomeen, wordt geïnterviewd door <strong>Miljuschka Witzenhausen</strong> over haar nieuwe zomerse kookboek <em>Sunshine, lemons &amp; sea salt - Vier de eigentijdse zomerse keuken</em>. Met aansluitend signeren.</p><p>Toegang gratis - aanmelden verplicht </p>
DESCRIPTION:<a href='/agenda/2026/5/7/miljuschka-witzenhausen-interviewt-donna-hay-over-sunshine-lemons-sea-salt-64180'>/agenda/2026/5/7/miljuschka-witzenhausen-interviewt-donna-hay-over-sunshine-lemons-sea-salt-64180</a> || <p><strong>Donna Hay</strong>, de favoriete en meest vertrouwde thuiskok van Australië en een internationaal fenomeen, wordt geïnterviewd door <strong>Miljuschka Witzenhausen</strong> over haar nieuwe zomerse kookboek <em>Sunshine, lemons &amp; sea salt - Vier de eigentijdse zomerse keuken</em>. Met aansluitend signeren.</p><p>Toegang gratis - aanmelden verplicht </p>
LAST-MODIFIED:20260422T133129Z
LOCATION: Boekhandel Donner | Coolsingel 129 Rotterdam
SEQUENCE:0
STATUS:CONFIRMED
SUMMARY:Miljuschka Witzenhausen interviewt Donna Hay over Sunshine, lemons & sea salt
TRANSP:OPAQUE
END:VEVENT
END:VCALENDAR
