BEGIN:VCALENDAR
PRODID:-//PUBBLE//agenda//NL
VERSION:2.0
METHOD:PUBLISH
BEGIN:VEVENT
DTSTART:20260503T130000Z
DTEND:20260503T150000Z
DTSTAMP:20260422T133420Z
UID:e75517d9-9e79-4190-bc3c-8a5e034f3219
CREATED:20260422T133420Z
NAME:Derek Otte en Marloes de Vries presenteren Blop duikt op dehavenloods.nl
X-WR-CALNAME:Derek Otte en Marloes de Vries presenteren Blop duikt op
X-ALT-DESC;FMTTYPE=text/html:<a href='/agenda/2026/5/3/derek-otte-en-marloes-de-vries-presenteren-blop-duikt-op-64179'>/agenda/2026/5/3/derek-otte-en-marloes-de-vries-presenteren-blop-duikt-op-64179</a> || <p>Rotterdamse spoken word-artiest <strong>Derek Otte</strong> debuteert met zijn allereerste kinderboek: <em>Blop duikt op</em>. Samen met illustrator <strong>Marloes de Vries</strong> vieren we de lancering bij Boekhandel Donner … en die verandert voor even in een echte onderwaterwereld.</p><p>Met spoken word, een interactieve live performance, een creatieve activiteit en vooral: alle ruimte voor kinderen om het verhaal niet alleen te horen, maar écht te beleven.</p><p>Toegang gratis - reserveren verplicht </p>
DESCRIPTION:<a href='/agenda/2026/5/3/derek-otte-en-marloes-de-vries-presenteren-blop-duikt-op-64179'>/agenda/2026/5/3/derek-otte-en-marloes-de-vries-presenteren-blop-duikt-op-64179</a> || <p>Rotterdamse spoken word-artiest <strong>Derek Otte</strong> debuteert met zijn allereerste kinderboek: <em>Blop duikt op</em>. Samen met illustrator <strong>Marloes de Vries</strong> vieren we de lancering bij Boekhandel Donner … en die verandert voor even in een echte onderwaterwereld.</p><p>Met spoken word, een interactieve live performance, een creatieve activiteit en vooral: alle ruimte voor kinderen om het verhaal niet alleen te horen, maar écht te beleven.</p><p>Toegang gratis - reserveren verplicht </p>
LAST-MODIFIED:20260422T133420Z
LOCATION: Boekhandel Donner | Coolsingel 129 Rotterdam
SEQUENCE:0
STATUS:CONFIRMED
SUMMARY:Derek Otte en Marloes de Vries presenteren Blop duikt op
TRANSP:OPAQUE
END:VEVENT
END:VCALENDAR
