BEGIN:VCALENDAR
PRODID:-//PUBBLE//agenda//NL
VERSION:2.0
METHOD:PUBLISH
BEGIN:VEVENT
DTSTART:20260503T103000Z
DTEND:20260503T120000Z
DTSTAMP:20260422T133035Z
UID:08889443-d353-49d4-a55c-2e37f1ed8ab8
CREATED:20260422T133035Z
NAME:Vertalers in gesprek: Alba de Céspedes & Montserrat Roig dehavenloods.nl
X-WR-CALNAME:Vertalers in gesprek: Alba de Céspedes & Montserrat Roig
X-ALT-DESC;FMTTYPE=text/html:<a href='/agenda/2026/5/3/vertalers-in-gesprek-alba-de-cespedes-montserrat-roig-64177'>/agenda/2026/5/3/vertalers-in-gesprek-alba-de-cespedes-montserrat-roig-64177</a> || <p>Aanleiding voor dit gesprek zijn de recente vertalingen van Het paarse uur (Roig) en Niemand kan terug (De Céspedes). <strong>Adri Boon</strong> is de vaste vertaler van Montserrat Roig en werkt uit het Spaans, Catalaans en Portugees. In 2025 won hij samen met Irene Solà de Europese Literatuurprijs. <strong>Manon Smits&nbsp;</strong>vertaalt uit het Engels en Italiaans en is de vaste vertaler van Alba de Céspedes. Zij werd meermaals genomineerd voor de Europese Literatuurprijs en bekroond met een Zilveren Griffel en een Gouden Lijst.</p><p>Toegang gratis - reserveren verplicht </p>
DESCRIPTION:<a href='/agenda/2026/5/3/vertalers-in-gesprek-alba-de-cespedes-montserrat-roig-64177'>/agenda/2026/5/3/vertalers-in-gesprek-alba-de-cespedes-montserrat-roig-64177</a> || <p>Aanleiding voor dit gesprek zijn de recente vertalingen van Het paarse uur (Roig) en Niemand kan terug (De Céspedes). <strong>Adri Boon</strong> is de vaste vertaler van Montserrat Roig en werkt uit het Spaans, Catalaans en Portugees. In 2025 won hij samen met Irene Solà de Europese Literatuurprijs. <strong>Manon Smits&nbsp;</strong>vertaalt uit het Engels en Italiaans en is de vaste vertaler van Alba de Céspedes. Zij werd meermaals genomineerd voor de Europese Literatuurprijs en bekroond met een Zilveren Griffel en een Gouden Lijst.</p><p>Toegang gratis - reserveren verplicht </p>
LAST-MODIFIED:20260422T133035Z
LOCATION: Boekhandel Donner | Coolsingel 129 Rotterdam
SEQUENCE:0
STATUS:CONFIRMED
SUMMARY:Vertalers in gesprek: Alba de Céspedes & Montserrat Roig
TRANSP:OPAQUE
END:VEVENT
END:VCALENDAR
