BEGIN:VCALENDAR
PRODID:-//PUBBLE//agenda//NL
VERSION:2.0
METHOD:PUBLISH
BEGIN:VEVENT
DTSTART:20260502T130000Z
DTEND:20260502T143000Z
DTSTAMP:20260422T133220Z
UID:8022005b-7745-4c2a-a71f-9efdefa59ae5
CREATED:20260422T133220Z
NAME:Aad Meinderts presenteert Herinneringscahier 1940-1945 dehavenloods.nl
X-WR-CALNAME:Aad Meinderts presenteert Herinneringscahier 1940-1945
X-ALT-DESC;FMTTYPE=text/html:<a href='/agenda/2026/5/2/aad-meinderts-presenteert-herinneringscahier-1940-1945-64176'>/agenda/2026/5/2/aad-meinderts-presenteert-herinneringscahier-1940-1945-64176</a> || <p><strong>Een stille getuige van avonden gevuld met verhalen en gedichten in benarde tijden&nbsp;</strong></p><p><strong>Aad Meinderts</strong> presenteert <em>Herinneringscahier 1940-1945</em>. Dit betreft een manuscript dat van juni 1945 dateert en pas zeer onlangs opdook in het Literatuurmuseum. Het verschijnt nu, meer dan tachtig jaar nadat het samengesteld werd, in boekvorm.</p><p><strong>Liliane Waanders</strong> interviewt Aad Meinderts, waarna Chagall van den Berg gedichten leest van haar overoudoom Max Kijzer en van haar grootmoeder Henriëtte Kijzer. <strong>Marco Entrop</strong> spreekt over Rudi Bloemgartens verzetswerk. Het eerste exemplaar wordt uitgereikt aan <strong>Elfie Tromp</strong>.</p><p>Toegang gratis - met reserveren</p>
DESCRIPTION:<a href='/agenda/2026/5/2/aad-meinderts-presenteert-herinneringscahier-1940-1945-64176'>/agenda/2026/5/2/aad-meinderts-presenteert-herinneringscahier-1940-1945-64176</a> || <p><strong>Een stille getuige van avonden gevuld met verhalen en gedichten in benarde tijden&nbsp;</strong></p><p><strong>Aad Meinderts</strong> presenteert <em>Herinneringscahier 1940-1945</em>. Dit betreft een manuscript dat van juni 1945 dateert en pas zeer onlangs opdook in het Literatuurmuseum. Het verschijnt nu, meer dan tachtig jaar nadat het samengesteld werd, in boekvorm.</p><p><strong>Liliane Waanders</strong> interviewt Aad Meinderts, waarna Chagall van den Berg gedichten leest van haar overoudoom Max Kijzer en van haar grootmoeder Henriëtte Kijzer. <strong>Marco Entrop</strong> spreekt over Rudi Bloemgartens verzetswerk. Het eerste exemplaar wordt uitgereikt aan <strong>Elfie Tromp</strong>.</p><p>Toegang gratis - met reserveren</p>
LAST-MODIFIED:20260422T133220Z
LOCATION: Boekhandel Donner | Coolsingel 129 Rotterdam
SEQUENCE:0
STATUS:CONFIRMED
SUMMARY:Aad Meinderts presenteert Herinneringscahier 1940-1945
TRANSP:OPAQUE
END:VEVENT
END:VCALENDAR
