BEGIN:VCALENDAR
PRODID:-//PUBBLE//agenda//NL
VERSION:2.0
METHOD:PUBLISH
BEGIN:VEVENT
DTSTART:20260426T130000Z
DTEND:20260426T143000Z
DTSTAMP:20260422T133943Z
UID:7cb9d835-0f9c-4f0a-9a3b-1c13e85b777c
CREATED:20260422T133943Z
NAME:Chaja Polak en Thomas Heerma van Voss over ‘mijn eerste liefde’ dehavenloods.nl
X-WR-CALNAME:Chaja Polak en Thomas Heerma van Voss over ‘mijn eerste liefde’
X-ALT-DESC;FMTTYPE=text/html:<a href='/agenda/2026/4/26/chaja-polak-en-thomas-heerma-van-voss-over-mijn-eerste-liefde-64175'>/agenda/2026/4/26/chaja-polak-en-thomas-heerma-van-voss-over-mijn-eerste-liefde-64175</a> || <p>De eerste twee delen in de nieuwe serie ‘Mijn eerste liefde’ bij uitgeverij Cossee zijn uit. <strong>Chaja Polak</strong> en <strong>Thomas Heerma van Voss</strong> schreven over het thema in hun romans Eden en VHS. <strong>Anouk Harkmans</strong> gaat met de auteurs in gesprek over hun eerste liefdes. Met aansluitend signeren.</p><p>Toegang gratis - reserveren verplicht &nbsp;</p>
DESCRIPTION:<a href='/agenda/2026/4/26/chaja-polak-en-thomas-heerma-van-voss-over-mijn-eerste-liefde-64175'>/agenda/2026/4/26/chaja-polak-en-thomas-heerma-van-voss-over-mijn-eerste-liefde-64175</a> || <p>De eerste twee delen in de nieuwe serie ‘Mijn eerste liefde’ bij uitgeverij Cossee zijn uit. <strong>Chaja Polak</strong> en <strong>Thomas Heerma van Voss</strong> schreven over het thema in hun romans Eden en VHS. <strong>Anouk Harkmans</strong> gaat met de auteurs in gesprek over hun eerste liefdes. Met aansluitend signeren.</p><p>Toegang gratis - reserveren verplicht &nbsp;</p>
LAST-MODIFIED:20260422T133943Z
LOCATION: Boekhandel Donner | Coolsingel 129 Rotterdam
SEQUENCE:0
STATUS:CONFIRMED
SUMMARY:Chaja Polak en Thomas Heerma van Voss over ‘mijn eerste liefde’
TRANSP:OPAQUE
END:VEVENT
END:VCALENDAR
