BEGIN:VCALENDAR
PRODID:-//PUBBLE//agenda//NL
VERSION:2.0
METHOD:PUBLISH
BEGIN:VEVENT
DTSTART:20260424T130000Z
DTEND:20260424T143000Z
DTSTAMP:20260423T041229Z
UID:1ee3c486-224a-4df4-a403-1e8ac04b6e86
CREATED:20260423T041229Z
NAME:Gioia Mia voor overdag - aanvang 15:00 uur dehavenloods.nl
X-WR-CALNAME:Gioia Mia voor overdag - aanvang 15:00 uur
X-ALT-DESC;FMTTYPE=text/html:<a href='/agenda/2026/4/24/gioia-mia-voor-overdag-aanvang-15-00-uur-64174'>/agenda/2026/4/24/gioia-mia-voor-overdag-aanvang-15-00-uur-64174</a> || <p>Zin in een zomers uitje dat je even meevoert naar Sicilië? <br>Kom dan naar Gioia mia, een warm en ontroerend Italiaanse feelgoodfilm &nbsp;over verschillende generaties die elkaar uiteindelijk weten te vinden. Stiekem gaat de film ook over eerste (en tweede) liefde van Nico en Gela. En vooral dat delicate verhaal, verteld met tedere precisie, maakt Gioia mia bijzonder.</p><p>De kleine Nico (Marco Fiore) moet een groot deel van zijn zomervakantie doorbrengen bij zijn oude tan te Gela (een glansrol van Aurora Quattrocchi), op Sicilië. Gela woont nog in hetzelfde huis waar ze is geboren en opgegroeid, een plek waar technologie nooit is binnengedrongen en elk voorwerp altijd op zijn plaats is gebleven, waar de tijd heeft stilgestaan.Hij eet de Siciliaanse gerechten Arancine al burro, Caponata, Cannoli en Sarde a beccafico (terwijl je als kijker erbij watertandt) met lange tanden.Gela ergert zich aan deze onvoorziene stoorzender. Ze heeft haar eigen ritme.Nico en Gela botsen dan ook vaak, maar uiteindelijk brengt hun gedeelde pijn, gemis en eenzaamheid hen dichter bij elkaar dan ze ooit voor mogelijk hadden gehouden.</p>
DESCRIPTION:<a href='/agenda/2026/4/24/gioia-mia-voor-overdag-aanvang-15-00-uur-64174'>/agenda/2026/4/24/gioia-mia-voor-overdag-aanvang-15-00-uur-64174</a> || <p>Zin in een zomers uitje dat je even meevoert naar Sicilië? <br>Kom dan naar Gioia mia, een warm en ontroerend Italiaanse feelgoodfilm &nbsp;over verschillende generaties die elkaar uiteindelijk weten te vinden. Stiekem gaat de film ook over eerste (en tweede) liefde van Nico en Gela. En vooral dat delicate verhaal, verteld met tedere precisie, maakt Gioia mia bijzonder.</p><p>De kleine Nico (Marco Fiore) moet een groot deel van zijn zomervakantie doorbrengen bij zijn oude tan te Gela (een glansrol van Aurora Quattrocchi), op Sicilië. Gela woont nog in hetzelfde huis waar ze is geboren en opgegroeid, een plek waar technologie nooit is binnengedrongen en elk voorwerp altijd op zijn plaats is gebleven, waar de tijd heeft stilgestaan.Hij eet de Siciliaanse gerechten Arancine al burro, Caponata, Cannoli en Sarde a beccafico (terwijl je als kijker erbij watertandt) met lange tanden.Gela ergert zich aan deze onvoorziene stoorzender. Ze heeft haar eigen ritme.Nico en Gela botsen dan ook vaak, maar uiteindelijk brengt hun gedeelde pijn, gemis en eenzaamheid hen dichter bij elkaar dan ze ooit voor mogelijk hadden gehouden.</p>
LAST-MODIFIED:20260423T041229Z
LOCATION: Podium Islemunda | Herenwaard  17 Rotterdam
SEQUENCE:0
STATUS:CONFIRMED
SUMMARY:Gioia Mia voor overdag - aanvang 15:00 uur
TRANSP:OPAQUE
END:VEVENT
END:VCALENDAR
