BEGIN:VCALENDAR
PRODID:-//PUBBLE//agenda//NL
VERSION:2.0
METHOD:PUBLISH
BEGIN:VEVENT
DTSTART:20260424T170000Z
DTEND:20260424T183000Z
DTSTAMP:20260423T040621Z
UID:30ac73f5-ef71-435c-9cfa-d15ffee2d37b
CREATED:20260423T040621Z
NAME:Italiaanse film Gioia Mia dehavenloods.nl
X-WR-CALNAME:Italiaanse film Gioia Mia
X-ALT-DESC;FMTTYPE=text/html:<a href='/agenda/2026/4/24/italiaanse-film-gioia-mia-64120'>/agenda/2026/4/24/italiaanse-film-gioia-mia-64120</a> || <p>Zin in een zomers uitje dat je even meevoert naar Sicilië? Kom dan naar Gioia mia, een warm en ontroerend Italiaanse feelgoodfilm &nbsp;over verschillende generaties die elkaar uiteindelijk weten te vinden.</p><p>Stiekem gaat de film ook over eerste (en tweede) liefde van Nico en Gela. En vooral dat delicate verhaal, verteld met tedere precisie, maakt Gioia mia bijzonder.</p><p>De kleine Nico (Marco Fiore) moet een groot deel van zijn zomervakantie doorbrengen bij zijn oude tan te Gela (een glansrol van Aurora Quattrocchi), op Sicilië. Gela woont nog in hetzelfde huis waar ze is geboren en opgegroeid, een plek waar technologie nooit is binnengedrongen en elk voorwerp altijd op zijn plaats is gebleven, waar de tijd heeft stilgestaan.</p><p>Hij eet de Siciliaanse gerechten Arancine al burro, Caponata, Cannoli en Sarde a beccafico (terwijl je als kijker erbij watertandt) met lange tanden.Gela ergert zich aan deze onvoorziene stoorzender. Ze heeft haar eigen ritme.Nico en Gela botsen dan ook vaak, maar uiteindelijk brengt hun gedeelde pijn, gemis en eenzaamheid hen dichter bij elkaar dan ze ooit voor mogelijk hadden gehouden, wellicht zonder het te weten en te willen erkennen, behoefte aan hadden.</p><p>Gaandeweg ontstaat er dan ook een ontroerende band en een zomer waarna niets meer hetzelfde zal zijn.</p>
DESCRIPTION:<a href='/agenda/2026/4/24/italiaanse-film-gioia-mia-64120'>/agenda/2026/4/24/italiaanse-film-gioia-mia-64120</a> || <p>Zin in een zomers uitje dat je even meevoert naar Sicilië? Kom dan naar Gioia mia, een warm en ontroerend Italiaanse feelgoodfilm &nbsp;over verschillende generaties die elkaar uiteindelijk weten te vinden.</p><p>Stiekem gaat de film ook over eerste (en tweede) liefde van Nico en Gela. En vooral dat delicate verhaal, verteld met tedere precisie, maakt Gioia mia bijzonder.</p><p>De kleine Nico (Marco Fiore) moet een groot deel van zijn zomervakantie doorbrengen bij zijn oude tan te Gela (een glansrol van Aurora Quattrocchi), op Sicilië. Gela woont nog in hetzelfde huis waar ze is geboren en opgegroeid, een plek waar technologie nooit is binnengedrongen en elk voorwerp altijd op zijn plaats is gebleven, waar de tijd heeft stilgestaan.</p><p>Hij eet de Siciliaanse gerechten Arancine al burro, Caponata, Cannoli en Sarde a beccafico (terwijl je als kijker erbij watertandt) met lange tanden.Gela ergert zich aan deze onvoorziene stoorzender. Ze heeft haar eigen ritme.Nico en Gela botsen dan ook vaak, maar uiteindelijk brengt hun gedeelde pijn, gemis en eenzaamheid hen dichter bij elkaar dan ze ooit voor mogelijk hadden gehouden, wellicht zonder het te weten en te willen erkennen, behoefte aan hadden.</p><p>Gaandeweg ontstaat er dan ook een ontroerende band en een zomer waarna niets meer hetzelfde zal zijn.</p>
LAST-MODIFIED:20260423T040621Z
LOCATION: Podium Islemunda | Herenwaard  17 Rotterdam
SEQUENCE:0
STATUS:CONFIRMED
SUMMARY:Italiaanse film Gioia Mia
TRANSP:OPAQUE
END:VEVENT
END:VCALENDAR
