BEGIN:VCALENDAR
PRODID:-//PUBBLE//agenda//NL
VERSION:2.0
METHOD:PUBLISH
BEGIN:VEVENT
DTSTART:20260422T130000Z
DTEND:20260422T140000Z
DTSTAMP:20260422T115345Z
UID:6b0f44e0-1ad2-497b-8bbc-2a08d30f04a1
CREATED:20260422T115345Z
NAME:Pettson & Findus – Brief aan de koning (4+) + knutselen dehavenloods.nl
X-WR-CALNAME:Pettson & Findus – Brief aan de koning (4+) + knutselen
X-ALT-DESC;FMTTYPE=text/html:<a href='/agenda/2026/4/22/pettson-findus-brief-aan-de-koning-4-knutselen-64119'>/agenda/2026/4/22/pettson-findus-brief-aan-de-koning-4-knutselen-64119</a> || <p>Komen je voordat de filmvoorstelling begint, eerst wat gezellig knutselen? <br>En er wordt ook nog een kort verhaaltje, uit een boekje van schrijver Sven Nordqvist, voorgelezen. Heerlijk toch?De animatiefilm Pettson &amp; Findus – Brief aan de koning wordt op een groot scherm vertoond. Het knutselen begint om 14:15 uur en de film start om 15:00 uur.</p><p>De oude, charmante Pettson en zijn ondeugende poes Findus, geboren in de prentenboeken van Sven Nordqvist, zijn weer flink op dreef.&nbsp;</p><p>De chaotische kat Findus van opa Pettson houdt niet van opruimen en schrijft daarom een brief aan de koning met het verzoek om de wet te veranderen. Daarin moet staan dat katten geen ordelijke beesten hoeven te zijn. Terwijl hij op antwoord wacht, gebeuren er vreemde dingen, in de vorm van een aaneenschakeling van vrolijke, korte verhaaltjes.Als klap op de vuurpijl (letterlijk!) gaat Findus’ grote droom in vervulling: ‘ de katonaut’ wordt gelanceerd voor een ruimtetrip naar de maan.Deze Pettson en Findus film is vrolijk, lichtvoetig, vindingrijk en sympathiek!</p>
DESCRIPTION:<a href='/agenda/2026/4/22/pettson-findus-brief-aan-de-koning-4-knutselen-64119'>/agenda/2026/4/22/pettson-findus-brief-aan-de-koning-4-knutselen-64119</a> || <p>Komen je voordat de filmvoorstelling begint, eerst wat gezellig knutselen? <br>En er wordt ook nog een kort verhaaltje, uit een boekje van schrijver Sven Nordqvist, voorgelezen. Heerlijk toch?De animatiefilm Pettson &amp; Findus – Brief aan de koning wordt op een groot scherm vertoond. Het knutselen begint om 14:15 uur en de film start om 15:00 uur.</p><p>De oude, charmante Pettson en zijn ondeugende poes Findus, geboren in de prentenboeken van Sven Nordqvist, zijn weer flink op dreef.&nbsp;</p><p>De chaotische kat Findus van opa Pettson houdt niet van opruimen en schrijft daarom een brief aan de koning met het verzoek om de wet te veranderen. Daarin moet staan dat katten geen ordelijke beesten hoeven te zijn. Terwijl hij op antwoord wacht, gebeuren er vreemde dingen, in de vorm van een aaneenschakeling van vrolijke, korte verhaaltjes.Als klap op de vuurpijl (letterlijk!) gaat Findus’ grote droom in vervulling: ‘ de katonaut’ wordt gelanceerd voor een ruimtetrip naar de maan.Deze Pettson en Findus film is vrolijk, lichtvoetig, vindingrijk en sympathiek!</p>
LAST-MODIFIED:20260422T115345Z
LOCATION: Podium Islemunda | Herenwaard  17 Rotterdam
SEQUENCE:0
STATUS:CONFIRMED
SUMMARY:Pettson & Findus – Brief aan de koning (4+) + knutselen
TRANSP:OPAQUE
END:VEVENT
END:VCALENDAR
