BEGIN:VCALENDAR
PRODID:-//PUBBLE//agenda//NL
VERSION:2.0
METHOD:PUBLISH
BEGIN:VEVENT
DTSTART:20260419T110000Z
DTEND:20260419T140000Z
DTSTAMP:20260423T103602Z
UID:4412c9e8-3627-4441-838d-a28a5477edcd
CREATED:20260423T103602Z
NAME:Jaarlijkse straatschoonmaak, doe jij ook mee? dehavenloods.nl
X-WR-CALNAME:Jaarlijkse straatschoonmaak, doe jij ook mee?
X-ALT-DESC;FMTTYPE=text/html:<a href='/agenda/2026/4/19/jaarlijkse-straatschoonmaak-doe-jij-ook-mee--64093'>/agenda/2026/4/19/jaarlijkse-straatschoonmaak-doe-jij-ook-mee--64093</a> || <p>De WMS Church of God nodigt iedereen van harte uit voor onze jaarlijkse schoonmaakcampagne rondom Slingeplein, metrostation Slinge en het Zuiderpark. <br><br>Vanuit de leer van hemelse Moeder zetten wij ons in om onze buurt schoon en leefbaar te houden en zo een positieve bijdrage te leveren aan onze samenleving. Deze campagne wordt niet alleen lokaal georganiseerd, maar vindt wereldwijd plaats in meer dan 7.500 kerken in ruim 175 landen. Samen zetten wij ons in voor een schonere omgeving en een betere wereld voor iedereen. </p><p><br>Iedereen is van harte welkom om mee te doen en samen met ons het verschil te maken!</p>
DESCRIPTION:<a href='/agenda/2026/4/19/jaarlijkse-straatschoonmaak-doe-jij-ook-mee--64093'>/agenda/2026/4/19/jaarlijkse-straatschoonmaak-doe-jij-ook-mee--64093</a> || <p>De WMS Church of God nodigt iedereen van harte uit voor onze jaarlijkse schoonmaakcampagne rondom Slingeplein, metrostation Slinge en het Zuiderpark. <br><br>Vanuit de leer van hemelse Moeder zetten wij ons in om onze buurt schoon en leefbaar te houden en zo een positieve bijdrage te leveren aan onze samenleving. Deze campagne wordt niet alleen lokaal georganiseerd, maar vindt wereldwijd plaats in meer dan 7.500 kerken in ruim 175 landen. Samen zetten wij ons in voor een schonere omgeving en een betere wereld voor iedereen. </p><p><br>Iedereen is van harte welkom om mee te doen en samen met ons het verschil te maken!</p>
LAST-MODIFIED:20260423T103602Z
LOCATION: WMS Church of God | Slingeplein 1 Rotterdam
SEQUENCE:0
STATUS:CONFIRMED
SUMMARY:Jaarlijkse straatschoonmaak, doe jij ook mee?
TRANSP:OPAQUE
END:VEVENT
END:VCALENDAR
