BEGIN:VCALENDAR
PRODID:-//PUBBLE//agenda//NL
VERSION:2.0
METHOD:PUBLISH
BEGIN:VEVENT
DTSTART:20260428T120000Z
DTEND:20260428T140000Z
DTSTAMP:20260420T164513Z
UID:6f24f71b-b756-4f48-97fe-d259e04f6c8c
CREATED:20260420T164513Z
NAME:Workshop “Veilig internet dehavenloods.nl
X-WR-CALNAME:Workshop “Veilig internet
X-ALT-DESC;FMTTYPE=text/html:<a href='/agenda/2026/4/28/workshop-veilig-internet-64058'>/agenda/2026/4/28/workshop-veilig-internet-64058</a> || <p>Wil je met meer vertrouwen online zijn?</p><p>deze workshop leer je in eenvoudige stappen hoe je veilig internet gebruikt.</p>
DESCRIPTION:<a href='/agenda/2026/4/28/workshop-veilig-internet-64058'>/agenda/2026/4/28/workshop-veilig-internet-64058</a> || <p>Wil je met meer vertrouwen online zijn?</p><p>deze workshop leer je in eenvoudige stappen hoe je veilig internet gebruikt.</p>
LAST-MODIFIED:20260420T164513Z
LOCATION: Bibliotheek Rotterdam | Rijkeeplein 2 Hoogvliet
SEQUENCE:0
STATUS:CONFIRMED
SUMMARY:Workshop “Veilig internet
TRANSP:OPAQUE
END:VEVENT
END:VCALENDAR
