BEGIN:VCALENDAR
PRODID:-//PUBBLE//agenda//NL
VERSION:2.0
METHOD:PUBLISH
BEGIN:VEVENT
DTSTART:20260424T180000Z
DTEND:20260423T191500Z
DTSTAMP:20260423T040642Z
UID:1349be11-c2d4-44e8-a7ae-071ee156dd5a
CREATED:20260423T040642Z
NAME:Resonance – Reflection and Renewal dehavenloods.nl
X-WR-CALNAME:Resonance – Reflection and Renewal
X-ALT-DESC;FMTTYPE=text/html:<a href='/agenda/2026/4/24/resonance-reflection-and-renewal-64047'>/agenda/2026/4/24/resonance-reflection-and-renewal-64047</a> || <p>In de dagen voorafgaand aan Koningsdag en 4 en 5 mei, wanneer in Nederland wordt stilgestaan bij herinnering en vrijheid, geeft Wouter van der Wilt in de Hoflaankerk een concert rond het thema Resonance – Reflection and Renewal. Muziek die draait om herdenken, herinneren en traditie enerzijds, en vernieuwing en vooruitkijken anderzijds. Het concert verkent hoe muziek uit verschillende tijden kan blijven doorwerken: als herinnering, maar ook als bron van nieuwe inspiratie.</p>
DESCRIPTION:<a href='/agenda/2026/4/24/resonance-reflection-and-renewal-64047'>/agenda/2026/4/24/resonance-reflection-and-renewal-64047</a> || <p>In de dagen voorafgaand aan Koningsdag en 4 en 5 mei, wanneer in Nederland wordt stilgestaan bij herinnering en vrijheid, geeft Wouter van der Wilt in de Hoflaankerk een concert rond het thema Resonance – Reflection and Renewal. Muziek die draait om herdenken, herinneren en traditie enerzijds, en vernieuwing en vooruitkijken anderzijds. Het concert verkent hoe muziek uit verschillende tijden kan blijven doorwerken: als herinnering, maar ook als bron van nieuwe inspiratie.</p>
LAST-MODIFIED:20260423T040642Z
LOCATION: Hoflaankerk | Oudedijk 2 Rotterdam
SEQUENCE:0
STATUS:CONFIRMED
SUMMARY:Resonance – Reflection and Renewal
TRANSP:OPAQUE
END:VEVENT
END:VCALENDAR
