BEGIN:VCALENDAR
PRODID:-//PUBBLE//agenda//NL
VERSION:2.0
METHOD:PUBLISH
BEGIN:VEVENT
DTSTART:20260419T130000Z
DTEND:20260419T141500Z
DTSTAMP:20260423T102911Z
UID:f9fe7283-838a-4033-816b-c6387938d13d
CREATED:20260423T102911Z
NAME:The Sacred & The Unveiled: Italian Vocal Passions dehavenloods.nl
X-WR-CALNAME:The Sacred & The Unveiled: Italian Vocal Passions
X-ALT-DESC;FMTTYPE=text/html:<a href='/agenda/2026/4/19/the-sacred-the-unveiled-italian-vocal-passions-64046'>/agenda/2026/4/19/the-sacred-the-unveiled-italian-vocal-passions-64046</a> || <p>Een inspirerende concertmiddag met een afwisseling van geestelijke en profane vocale muziek uit de Italiaanse Renaissance en Barok. De composities zijn intens van karakter, vol hevige emoties en contrasten. Veel stukken zijn van vrouwelijke componisten uit de genoemde periode die getuigen van groot meesterschap. &nbsp;</p>
DESCRIPTION:<a href='/agenda/2026/4/19/the-sacred-the-unveiled-italian-vocal-passions-64046'>/agenda/2026/4/19/the-sacred-the-unveiled-italian-vocal-passions-64046</a> || <p>Een inspirerende concertmiddag met een afwisseling van geestelijke en profane vocale muziek uit de Italiaanse Renaissance en Barok. De composities zijn intens van karakter, vol hevige emoties en contrasten. Veel stukken zijn van vrouwelijke componisten uit de genoemde periode die getuigen van groot meesterschap. &nbsp;</p>
LAST-MODIFIED:20260423T102911Z
LOCATION: St. Lambertuskerk | Oostzeedijk Beneden 1-3 Rotterdam
SEQUENCE:0
STATUS:CONFIRMED
SUMMARY:The Sacred & The Unveiled: Italian Vocal Passions
TRANSP:OPAQUE
END:VEVENT
END:VCALENDAR
