BEGIN:VCALENDAR
PRODID:-//PUBBLE//agenda//NL
VERSION:2.0
METHOD:PUBLISH
BEGIN:VEVENT
DTSTART:20260421T160000Z
DTEND:20260421T180000Z
DTSTAMP:20260420T093913Z
UID:4774dc95-d9d4-4dc2-bedd-e4698553bf09
CREATED:20260420T093913Z
NAME:Soup-port: How do you let go? dehavenloods.nl
X-WR-CALNAME:Soup-port: How do you let go?
X-ALT-DESC;FMTTYPE=text/html:<a href='/agenda/2026/4/21/soup-port-how-do-you-let-go--63972'>/agenda/2026/4/21/soup-port-how-do-you-let-go--63972</a> || <p>Pull up a chair, grab a bowl of soup, and let’s talk! For this night, we’re exploring the question:&nbsp;<em>How do you let go?</em>&nbsp;Jeanine is bringing the soup, and the question. Will you join us to share your thoughts and ideas? The conversation will be held in English. Everyone is welcome!</p><p>Soup-port is support with soup! In our cozy dokhuis, on the edge of the harbor, we come together for Soup-port. This is your chance to connect with familiar and new neighbors over a warm bowl of soup. Each session, led by Parel Strik and Noemi Bardas, centers on personal questions and topics.</p><p>The aim of Soup-port is not to come to conclusions, but to share perspectives and discover what you and others have to say. We focus on open-hearted conversations and exchanging ideas, not on finding ready-made solutions.</p><p>Do you also have a personal question or topic to discuss? Feel free to email <a href="mailto:noemi@dokhuis.org">noemi@dokhuis.org</a></p><p>Participation is free, but if you choose to purchase a donation ticket, your contribution will help keep other events free.</p>
DESCRIPTION:<a href='/agenda/2026/4/21/soup-port-how-do-you-let-go--63972'>/agenda/2026/4/21/soup-port-how-do-you-let-go--63972</a> || <p>Pull up a chair, grab a bowl of soup, and let’s talk! For this night, we’re exploring the question:&nbsp;<em>How do you let go?</em>&nbsp;Jeanine is bringing the soup, and the question. Will you join us to share your thoughts and ideas? The conversation will be held in English. Everyone is welcome!</p><p>Soup-port is support with soup! In our cozy dokhuis, on the edge of the harbor, we come together for Soup-port. This is your chance to connect with familiar and new neighbors over a warm bowl of soup. Each session, led by Parel Strik and Noemi Bardas, centers on personal questions and topics.</p><p>The aim of Soup-port is not to come to conclusions, but to share perspectives and discover what you and others have to say. We focus on open-hearted conversations and exchanging ideas, not on finding ready-made solutions.</p><p>Do you also have a personal question or topic to discuss? Feel free to email <a href="mailto:noemi@dokhuis.org">noemi@dokhuis.org</a></p><p>Participation is free, but if you choose to purchase a donation ticket, your contribution will help keep other events free.</p>
LAST-MODIFIED:20260420T093913Z
LOCATION: Dokhuis | Doklaan 10 Rotterdam
SEQUENCE:0
STATUS:CONFIRMED
SUMMARY:Soup-port: How do you let go?
TRANSP:OPAQUE
END:VEVENT
END:VCALENDAR
