BEGIN:VCALENDAR
PRODID:-//PUBBLE//agenda//NL
VERSION:2.0
METHOD:PUBLISH
BEGIN:VEVENT
DTSTART:20260421T100000Z
DTEND:20260421T120000Z
DTSTAMP:20260420T093913Z
UID:bf146119-f8fe-49e0-a9f8-06146f2ed1bc
CREATED:20260420T093913Z
NAME:Online Veiligheid dehavenloods.nl
X-WR-CALNAME:Online Veiligheid
X-ALT-DESC;FMTTYPE=text/html:<a href='/agenda/2026/4/21/online-veiligheid-63877'>/agenda/2026/4/21/online-veiligheid-63877</a> || <p>Steeds vaker ontvangen mensen nepberichten die vragen om geld over te maken of om belangrijke gegevens in te vullen. Omdat steeds meer online gaat, is het handig om te weten waar je op kunt letten.</p><p>Tijdens onze bijeenkomst kijken we naar een film die op een duidelijke en herkenbare manier uitlegt hoe online oplichting in zijn werk gaat. Zo leer je hoe je nepberichten herkent en wat je zelf kunt doen om veilig te blijven. Tijdens de film krijg je uitleg van een politieagent en kun je vragen stellen.</p>
DESCRIPTION:<a href='/agenda/2026/4/21/online-veiligheid-63877'>/agenda/2026/4/21/online-veiligheid-63877</a> || <p>Steeds vaker ontvangen mensen nepberichten die vragen om geld over te maken of om belangrijke gegevens in te vullen. Omdat steeds meer online gaat, is het handig om te weten waar je op kunt letten.</p><p>Tijdens onze bijeenkomst kijken we naar een film die op een duidelijke en herkenbare manier uitlegt hoe online oplichting in zijn werk gaat. Zo leer je hoe je nepberichten herkent en wat je zelf kunt doen om veilig te blijven. Tijdens de film krijg je uitleg van een politieagent en kun je vragen stellen.</p>
LAST-MODIFIED:20260420T093913Z
LOCATION: Bibliotheek Rotterdam | Rijkeeplein 2 Hoogvliet
SEQUENCE:0
STATUS:CONFIRMED
SUMMARY:Online Veiligheid
TRANSP:OPAQUE
END:VEVENT
END:VCALENDAR
