BEGIN:VCALENDAR
PRODID:-//PUBBLE//agenda//NL
VERSION:2.0
METHOD:PUBLISH
BEGIN:VEVENT
DTSTART:20260425T083000Z
DTEND:20260425T100000Z
DTSTAMP:20260424T042124Z
UID:06847aa5-109e-42fa-a5d1-652d2bb62b13
CREATED:20260424T042124Z
NAME:Gratis Dakparkrondleiding met gids zaterdag 25 april om 12.30 uur dehavenloods.nl
X-WR-CALNAME:Gratis Dakparkrondleiding met gids zaterdag 25 april om 12.30 uur
X-ALT-DESC;FMTTYPE=text/html:<a href='/agenda/2026/4/25/gratis-dakparkrondleiding-met-gids-zaterdag-25-april-om-12-30-uur-63863'>/agenda/2026/4/25/gratis-dakparkrondleiding-met-gids-zaterdag-25-april-om-12-30-uur-63863</a> || <p>Wil je meer weten over het Dakpark? Ga mee met een (gratis) rondleiding op zaterdag 25 april. Onze gidsen kunnen veel vertellen over hoe het Dakpark is ontstaan, wat er allemaal op het park te zien is, hoe het onderhouden wordt en ook hoe je zelf kunt meedoen. Ieder seizoen is er veel te beleven. In de lente wordt er hard gewerkt in de mediterrane tuin, de sierstroken en de kruidentuin. Intussen komt er steeds meer in bloei. De wandeling start om 12.30 uur en duurt ongeveer anderhalf uur. We verzamelen in de Buurttuin. Dat is bij de ingang van het Dakpark op de kruising van de Hudsonstraat en de Catharina Beersmansstraat.</p><p><strong>De vele verhalen van het Dakpark</strong></p><p>Het Dakpark is een uniek park in binnen- en buitenland. Natuurlijk vanwege de omvang en de locatie, boven bigshops en een parkeergarage. Maar ook vanwege het feit dat dit park het resultaat is van een initiatief van actieve bewoners. Stichting Dakpark werkt met een groep vrijwilligers en buurtbewoners aan het groenonderhoud op het park en het beheer van de Buurttuin. De planten, struiken en bomen zijn speciaal geselecteerd voor deze bijzondere locatie. De thematuinen, zoals de mediterrane tuin, de kruidenvakken en de sierstroken hebben ieder een eigen sfeer.&nbsp;</p><p><strong>Aanmelden</strong></p><p>Deelname is gratis. Het maximumaantal deelnemers is 15 personen. Aanmelden via gidsen@dakparkrotterdam.nl&nbsp;</p>
DESCRIPTION:<a href='/agenda/2026/4/25/gratis-dakparkrondleiding-met-gids-zaterdag-25-april-om-12-30-uur-63863'>/agenda/2026/4/25/gratis-dakparkrondleiding-met-gids-zaterdag-25-april-om-12-30-uur-63863</a> || <p>Wil je meer weten over het Dakpark? Ga mee met een (gratis) rondleiding op zaterdag 25 april. Onze gidsen kunnen veel vertellen over hoe het Dakpark is ontstaan, wat er allemaal op het park te zien is, hoe het onderhouden wordt en ook hoe je zelf kunt meedoen. Ieder seizoen is er veel te beleven. In de lente wordt er hard gewerkt in de mediterrane tuin, de sierstroken en de kruidentuin. Intussen komt er steeds meer in bloei. De wandeling start om 12.30 uur en duurt ongeveer anderhalf uur. We verzamelen in de Buurttuin. Dat is bij de ingang van het Dakpark op de kruising van de Hudsonstraat en de Catharina Beersmansstraat.</p><p><strong>De vele verhalen van het Dakpark</strong></p><p>Het Dakpark is een uniek park in binnen- en buitenland. Natuurlijk vanwege de omvang en de locatie, boven bigshops en een parkeergarage. Maar ook vanwege het feit dat dit park het resultaat is van een initiatief van actieve bewoners. Stichting Dakpark werkt met een groep vrijwilligers en buurtbewoners aan het groenonderhoud op het park en het beheer van de Buurttuin. De planten, struiken en bomen zijn speciaal geselecteerd voor deze bijzondere locatie. De thematuinen, zoals de mediterrane tuin, de kruidenvakken en de sierstroken hebben ieder een eigen sfeer.&nbsp;</p><p><strong>Aanmelden</strong></p><p>Deelname is gratis. Het maximumaantal deelnemers is 15 personen. Aanmelden via gidsen@dakparkrotterdam.nl&nbsp;</p>
LAST-MODIFIED:20260424T042124Z
LOCATION: Dakpark | Vierhavensstraat 79 Rotterdam
SEQUENCE:0
STATUS:CONFIRMED
SUMMARY:Gratis Dakparkrondleiding met gids zaterdag 25 april om 12.30 uur
TRANSP:OPAQUE
END:VEVENT
END:VCALENDAR
