BEGIN:VCALENDAR
PRODID:-//PUBBLE//agenda//NL
VERSION:2.0
METHOD:PUBLISH
BEGIN:VEVENT
DTSTART:20260422T090000Z
DTEND:20260422T120000Z
DTSTAMP:20260423T083748Z
UID:f2de1451-01ae-4b09-82f9-821b5a9c6922
CREATED:20260423T083748Z
NAME:Senioren FitFestival met leuke buitenactiviteiten in de Dakpark Buurttuin dehavenloods.nl
X-WR-CALNAME:Senioren FitFestival met leuke buitenactiviteiten in de Dakpark Buurttuin
X-ALT-DESC;FMTTYPE=text/html:<a href='/agenda/2026/4/22/senioren-fitfestival-met-leuke-buitenactiviteiten-in-de-dakpark-buurttuin-63829'>/agenda/2026/4/22/senioren-fitfestival-met-leuke-buitenactiviteiten-in-de-dakpark-buurttuin-63829</a> || <p>Woensdagmiddag 22 april is er een Fitfestival in de Buurttuin op het Dakpark van 13-16 uur. Er is een gevarieerd programma speciaal voor wijkbewoners van 55+ met yoga, een tuinwandeling, een creatieve workshop met natuurlijke materialen, een gezondheidscheck, gezelligheid, eten en drinken en een digi les! De deelname is gratis. Kom tijdens de lente bewegen en ontdekken in de frisse buitenlucht in de Buurttuin op het Dakpark. De Buurttuin is bij de ingang van het Dakpark op de kruising van de Hudsonstraat en de Catharina Beersmansstraat.</p><p><strong>Lekker naar buiten!</strong></p><p>Woon je in de buurt en wil je meedoen met leuke activiteiten en ontdekken wat er allemaal gebeurt op de Buurttuin in de lente? Tijdens het FitFestival kunnen senioren meedoen met leuke buitenactiviteiten. De activiteiten zijn allemaal gericht op het ‘fit zijn en fit blijven’.&nbsp;</p><p>De FitFestivals 55+ zijn er om de gezondheid van Rotterdammers van 55 jaar en ouder te verbeteren. Tijdens de evenementen leren 55-plussers hoe ze gezond en gelukkig kunnen leven in hun eigen omgeving. Bijvoorbeeld door veel te bewegen, gezond te eten en drinken, genoeg te ontspannen, hun talenten te benutten en moderne technologie (of eHealth) te gebruiken. Het FitFesival wordt georganiseerd in samenwerking met wmo radar.</p><p><strong>Aanmelden</strong></p><p>Deelname is gratis. Aanmelden bij: Nassira.nejjari@wmoradar.nl / &nbsp;06-52553764.</p>
DESCRIPTION:<a href='/agenda/2026/4/22/senioren-fitfestival-met-leuke-buitenactiviteiten-in-de-dakpark-buurttuin-63829'>/agenda/2026/4/22/senioren-fitfestival-met-leuke-buitenactiviteiten-in-de-dakpark-buurttuin-63829</a> || <p>Woensdagmiddag 22 april is er een Fitfestival in de Buurttuin op het Dakpark van 13-16 uur. Er is een gevarieerd programma speciaal voor wijkbewoners van 55+ met yoga, een tuinwandeling, een creatieve workshop met natuurlijke materialen, een gezondheidscheck, gezelligheid, eten en drinken en een digi les! De deelname is gratis. Kom tijdens de lente bewegen en ontdekken in de frisse buitenlucht in de Buurttuin op het Dakpark. De Buurttuin is bij de ingang van het Dakpark op de kruising van de Hudsonstraat en de Catharina Beersmansstraat.</p><p><strong>Lekker naar buiten!</strong></p><p>Woon je in de buurt en wil je meedoen met leuke activiteiten en ontdekken wat er allemaal gebeurt op de Buurttuin in de lente? Tijdens het FitFestival kunnen senioren meedoen met leuke buitenactiviteiten. De activiteiten zijn allemaal gericht op het ‘fit zijn en fit blijven’.&nbsp;</p><p>De FitFestivals 55+ zijn er om de gezondheid van Rotterdammers van 55 jaar en ouder te verbeteren. Tijdens de evenementen leren 55-plussers hoe ze gezond en gelukkig kunnen leven in hun eigen omgeving. Bijvoorbeeld door veel te bewegen, gezond te eten en drinken, genoeg te ontspannen, hun talenten te benutten en moderne technologie (of eHealth) te gebruiken. Het FitFesival wordt georganiseerd in samenwerking met wmo radar.</p><p><strong>Aanmelden</strong></p><p>Deelname is gratis. Aanmelden bij: Nassira.nejjari@wmoradar.nl / &nbsp;06-52553764.</p>
LAST-MODIFIED:20260423T083748Z
LOCATION: Dakpark | Vierhavensstraat 79 Rotterdam
SEQUENCE:0
STATUS:CONFIRMED
SUMMARY:Senioren FitFestival met leuke buitenactiviteiten in de Dakpark Buurttuin
TRANSP:OPAQUE
END:VEVENT
END:VCALENDAR
