BEGIN:VCALENDAR
PRODID:-//PUBBLE//agenda//NL
VERSION:2.0
METHOD:PUBLISH
BEGIN:VEVENT
DTSTART:20260423T110000Z
DTEND:20260423T123000Z
DTSTAMP:20260422T120055Z
UID:6f028b97-2fbb-4a66-85b5-d57756a15f5e
CREATED:20260422T120055Z
NAME:Bestsellerauteur Laura Lynne Jackson over Laat tekens je gids zijn dehavenloods.nl
X-WR-CALNAME:Bestsellerauteur Laura Lynne Jackson over Laat tekens je gids zijn
X-ALT-DESC;FMTTYPE=text/html:<a href='/agenda/2026/4/23/bestsellerauteur-laura-lynne-jackson-over-laat-tekens-je-gids-zijn-63452'>/agenda/2026/4/23/bestsellerauteur-laura-lynne-jackson-over-laat-tekens-je-gids-zijn-63452</a> || <p>Bestsellerauteur <strong>Laura Lynne Jackson</strong> gaat in gesprek met <strong>Willemijn Welten</strong> over haar nieuwe boek <em>Laat tekens je gids zijn - Herken de boodschappen van het Universum die je naar een verlicht leven leiden</em>. Met aansluitend signeren. Toegang gratis - aanmelden verplicht.</p>
DESCRIPTION:<a href='/agenda/2026/4/23/bestsellerauteur-laura-lynne-jackson-over-laat-tekens-je-gids-zijn-63452'>/agenda/2026/4/23/bestsellerauteur-laura-lynne-jackson-over-laat-tekens-je-gids-zijn-63452</a> || <p>Bestsellerauteur <strong>Laura Lynne Jackson</strong> gaat in gesprek met <strong>Willemijn Welten</strong> over haar nieuwe boek <em>Laat tekens je gids zijn - Herken de boodschappen van het Universum die je naar een verlicht leven leiden</em>. Met aansluitend signeren. Toegang gratis - aanmelden verplicht.</p>
LAST-MODIFIED:20260422T120055Z
LOCATION: Boekhandel Donner | Coolsingel 129 Rotterdam
SEQUENCE:0
STATUS:CONFIRMED
SUMMARY:Bestsellerauteur Laura Lynne Jackson over Laat tekens je gids zijn
TRANSP:OPAQUE
END:VEVENT
END:VCALENDAR
