BEGIN:VCALENDAR
PRODID:-//PUBBLE//agenda//NL
VERSION:2.0
METHOD:PUBLISH
BEGIN:VEVENT
DTSTART:20260418T100000Z
DTEND:20260418T120000Z
DTSTAMP:20260422T101603Z
UID:ba06d5eb-178b-4f5c-b315-028d09837bc0
CREATED:20260422T101603Z
NAME:Jeroen Windmeijer signeert De val van de koning dehavenloods.nl
X-WR-CALNAME:Jeroen Windmeijer signeert De val van de koning
X-ALT-DESC;FMTTYPE=text/html:<a href='/agenda/2026/4/18/jeroen-windmeijer-signeert-de-val-van-de-koning-63451'>/agenda/2026/4/18/jeroen-windmeijer-signeert-de-val-van-de-koning-63451</a> || <p>Bestsellerauteur <strong>Jeroen Windmeijer</strong> signeert deze middag op de afdeling literatuur zijn nieuwe thriller <em>De val van de koning - Een explosief geheim bedreigt Delft en de monarchie</em>. Toegang vrij.</p>
DESCRIPTION:<a href='/agenda/2026/4/18/jeroen-windmeijer-signeert-de-val-van-de-koning-63451'>/agenda/2026/4/18/jeroen-windmeijer-signeert-de-val-van-de-koning-63451</a> || <p>Bestsellerauteur <strong>Jeroen Windmeijer</strong> signeert deze middag op de afdeling literatuur zijn nieuwe thriller <em>De val van de koning - Een explosief geheim bedreigt Delft en de monarchie</em>. Toegang vrij.</p>
LAST-MODIFIED:20260422T101603Z
LOCATION: Boekhandel Donner | Coolsingel 129 Rotterdam
SEQUENCE:0
STATUS:CONFIRMED
SUMMARY:Jeroen Windmeijer signeert De val van de koning
TRANSP:OPAQUE
END:VEVENT
END:VCALENDAR
