BEGIN:VCALENDAR
PRODID:-//PUBBLE//agenda//NL
VERSION:2.0
METHOD:PUBLISH
BEGIN:VEVENT
DTSTART:20250504T113000Z
DTEND:20250504T123000Z
DTSTAMP:20260421T145806Z
UID:76f5a37c-7a1a-46d1-a31f-ead76b610e70
CREATED:20260421T145806Z
NAME:Dodenherdenking Algemene Begraafplaats Crooswijk dehavenloods.nl
X-WR-CALNAME:Dodenherdenking Algemene Begraafplaats Crooswijk
X-ALT-DESC;FMTTYPE=text/html:<a href='/agenda/2025/5/4/dodenherdenking-algemene-begraafplaats-crooswijk-57161'>/agenda/2025/5/4/dodenherdenking-algemene-begraafplaats-crooswijk-57161</a> || <p>Jaarlijks herdenken we op 4 mei alle burgers en militairen die in het Koninkrijk der Nederlanden of waar ook ter wereld zijn omgekomen of vermoord sinds het uitbreken van de Tweede Wereldoorlog, in oorlogssituaties en bij vredesoperaties.</p><p>De kransleggingen vinden in beslotenheid plaats voorafgaand aan de herdenkingsplechtigheid. De Algemene Begraafplaats Crooswijk kent een aantal (ere)graven en monumenten ter nagedachtenis aan de militaire en burgerslachtoffers uit de Tweede Wereldoorlog, maar ook uit andere oorlogen. Uiteraard zijn belangstellenden welkom om na afloop van de ceremonie langs de monumenten te wandelen.&nbsp;</p>
DESCRIPTION:<a href='/agenda/2025/5/4/dodenherdenking-algemene-begraafplaats-crooswijk-57161'>/agenda/2025/5/4/dodenherdenking-algemene-begraafplaats-crooswijk-57161</a> || <p>Jaarlijks herdenken we op 4 mei alle burgers en militairen die in het Koninkrijk der Nederlanden of waar ook ter wereld zijn omgekomen of vermoord sinds het uitbreken van de Tweede Wereldoorlog, in oorlogssituaties en bij vredesoperaties.</p><p>De kransleggingen vinden in beslotenheid plaats voorafgaand aan de herdenkingsplechtigheid. De Algemene Begraafplaats Crooswijk kent een aantal (ere)graven en monumenten ter nagedachtenis aan de militaire en burgerslachtoffers uit de Tweede Wereldoorlog, maar ook uit andere oorlogen. Uiteraard zijn belangstellenden welkom om na afloop van de ceremonie langs de monumenten te wandelen.&nbsp;</p>
LAST-MODIFIED:20260421T145806Z
LOCATION: Algemene Begraafplaats Crooswijk | Kerkhoflaan 1 Rotterdam
SEQUENCE:0
STATUS:CONFIRMED
SUMMARY:Dodenherdenking Algemene Begraafplaats Crooswijk
TRANSP:OPAQUE
END:VEVENT
END:VCALENDAR
