BEGIN:VCALENDAR
PRODID:-//PUBBLE//agenda//NL
VERSION:2.0
METHOD:PUBLISH
BEGIN:VEVENT
DTSTART:20230313T173000Z
DTEND:20231211T183000Z
DTSTAMP:20260421T164409Z
UID:2634c98b-9b89-4fe4-9641-8a6e76fd3431
CREATED:20260421T164409Z
NAME:YOGA VOOR BEGINNERS BIJ GEZOND MET YOGA dehavenloods.nl
X-WR-CALNAME:YOGA VOOR BEGINNERS BIJ GEZOND MET YOGA
X-ALT-DESC;FMTTYPE=text/html:<a href='/agenda/2023/3/13/yoga-voor-beginners-bij-gezond-met-yoga-45536'>/agenda/2023/3/13/yoga-voor-beginners-bij-gezond-met-yoga-45536</a> || <p>De hatha yogalessen in Rotterdam zijn er om even helemaal weg te zijn van het moderne hectische leven, waar je met aandacht begeleid wordt in een veilige en grondige hatha yogabeoefening. Van dynamisch naar statisch, van inspanning naar ontspanning. Het totaal aan oefeningen geeft kracht, balans, soepelheid en meer rust. Met yoga blijven we in balans en houden we een gezonde geest in een gezond lichaam. Het doel van yoga is vooral het bevorderen van de gezondheid en het welbevinden. Yoga werkt door op alle drie lagen. Het lichaam wordt leniger, sterker en gezonder. De geest is meer ontspannen en je ervaart rust en helderheid. Het brengt eenheid in jezelf en daarmee ook meer liefde voor jezelf en anderen. INFORMATIE: <a href="//www.gezondmetyoga.nl">www.gezondmetyoga.nl</a> </p>
DESCRIPTION:<a href='/agenda/2023/3/13/yoga-voor-beginners-bij-gezond-met-yoga-45536'>/agenda/2023/3/13/yoga-voor-beginners-bij-gezond-met-yoga-45536</a> || <p>De hatha yogalessen in Rotterdam zijn er om even helemaal weg te zijn van het moderne hectische leven, waar je met aandacht begeleid wordt in een veilige en grondige hatha yogabeoefening. Van dynamisch naar statisch, van inspanning naar ontspanning. Het totaal aan oefeningen geeft kracht, balans, soepelheid en meer rust. Met yoga blijven we in balans en houden we een gezonde geest in een gezond lichaam. Het doel van yoga is vooral het bevorderen van de gezondheid en het welbevinden. Yoga werkt door op alle drie lagen. Het lichaam wordt leniger, sterker en gezonder. De geest is meer ontspannen en je ervaart rust en helderheid. Het brengt eenheid in jezelf en daarmee ook meer liefde voor jezelf en anderen. INFORMATIE: <a href="//www.gezondmetyoga.nl">www.gezondmetyoga.nl</a> </p>
LAST-MODIFIED:20260421T164409Z
LOCATION: Vrije school | Velsenluststraat 7 Rotterdam
SEQUENCE:0
STATUS:CONFIRMED
SUMMARY:YOGA VOOR BEGINNERS BIJ GEZOND MET YOGA
TRANSP:OPAQUE
END:VEVENT
END:VCALENDAR
