BEGIN:VCALENDAR
PRODID:-//PUBBLE//agenda//NL
VERSION:2.0
METHOD:PUBLISH
BEGIN:VEVENT
DTSTART:20230128T180000Z
DTEND:20230128T230000Z
DTSTAMP:20260425T153258Z
UID:4ab4b54b-feb9-4855-887f-4a06a7d80c63
CREATED:20260425T153258Z
NAME:HONDSDOL: PUNK BIJ POORTGEBOUW dehavenloods.nl
X-WR-CALNAME:HONDSDOL: PUNK BIJ POORTGEBOUW
X-ALT-DESC;FMTTYPE=text/html:<a href='/agenda/2023/1/28/hondsdol-punk-bij-poortgebouw-45397'>/agenda/2023/1/28/hondsdol-punk-bij-poortgebouw-45397</a> || <p>Hondsdol komt naar Rotterdam! 28 januari is het zover, een punk avond bij het Poortgebouw!</p><p>6 snoeiharde bandjes! Graftak, No Teacher No Pupil, en, Vomit Scraper van Rotterdamse bodem! Spetterpoep uit Haarlem! Psychose uit Almere! En zelfs een internationaal bandje, Rot Stewart uit België! Deuren gaan open om 20.00 en alles is op donatie basis!&nbsp;</p><p>Zin in een avondje hard gaan? Kom dan vooral langs! 20.00 gaan de deuren open en alles is op donatiebasis!</p>
DESCRIPTION:<a href='/agenda/2023/1/28/hondsdol-punk-bij-poortgebouw-45397'>/agenda/2023/1/28/hondsdol-punk-bij-poortgebouw-45397</a> || <p>Hondsdol komt naar Rotterdam! 28 januari is het zover, een punk avond bij het Poortgebouw!</p><p>6 snoeiharde bandjes! Graftak, No Teacher No Pupil, en, Vomit Scraper van Rotterdamse bodem! Spetterpoep uit Haarlem! Psychose uit Almere! En zelfs een internationaal bandje, Rot Stewart uit België! Deuren gaan open om 20.00 en alles is op donatie basis!&nbsp;</p><p>Zin in een avondje hard gaan? Kom dan vooral langs! 20.00 gaan de deuren open en alles is op donatiebasis!</p>
LAST-MODIFIED:20260425T153258Z
LOCATION: Poortgebouw | Stieltjesstraat  Rotterdam
SEQUENCE:0
STATUS:CONFIRMED
SUMMARY:HONDSDOL: PUNK BIJ POORTGEBOUW
TRANSP:OPAQUE
END:VEVENT
END:VCALENDAR
