BEGIN:VCALENDAR
PRODID:-//PUBBLE//agenda//NL
VERSION:2.0
METHOD:PUBLISH
BEGIN:VEVENT
DTSTART:20220803T123000Z
DTEND:20241230T222300Z
DTSTAMP:20260421T164721Z
UID:20a69098-43b2-4400-9750-ef87f1588aad
CREATED:20260421T164721Z
NAME:kralingseveer gezamenlijk aan de wandel dehavenloods.nl
X-WR-CALNAME:kralingseveer gezamenlijk aan de wandel
X-ALT-DESC;FMTTYPE=text/html:<a href='/agenda/2022/8/3/kralingseveer-gezamenlijk-aan-de-wandel-43072'>/agenda/2022/8/3/kralingseveer-gezamenlijk-aan-de-wandel-43072</a> || <p><strong>VitaMotionNow</strong> organiseert en begeleid wekelijks diverse wandel en beweeg activiteiten in Capelle aan den IJssel, Krimpen aan den IJssel en Rotterdam.&nbsp;</p><p>Met ingang van <strong>woensdagmiddag 3 augustus 14:30 uur</strong>, wordt er gestart met een wekelijks wandelinitiatief vanuit Kralingseveer met vertrek en eindpunt <strong>Buurt- en Speeltuinvereniging Kralingseveer</strong>. Elke volgende woensdagmiddag na de startdatum kan men aansluiten.&nbsp;</p><p>Het doel is om zoveel mogelijk mensen uit Kralingseveer en omstreken wekelijks aan het wandelen te krijgen en vooral ook te houden, en hen zo de <strong>vele positieve effecten van bewegen op hun gezondheid te laten ervaren. </strong></p><p>Denk hierbij aan een betere nachtrust, meer energie, betere ademhaling, je lekkerder in je vel voelen, conditie verbetering, daling van je bloeddruk, lagere en betere bloedsuikerwaarden, gewichtsverlies, het verkrijgen van soepelere spieren en afname van stress.&nbsp;</p><p>Daarnaast ook een <strong>toename van je sociale contacten</strong>, wekelijks lekker sportief bezig zijn en ook nog eens <strong>veel plezier en gezelligheid ervaren</strong>.&nbsp;</p><p>Na afloop is er de mogelijkheid om gezamenlijk een koffie of thee te drinken en nog even gezellig na te praten. &nbsp;De wekelijkse wandeling wordt <strong>begeleid door een ervaren wandel &amp; beweegcoach. </strong></p><p>De <strong>1e wandeling is altijd gratis en vrijblijvend</strong>. Daarna wordt er met een WandelStrippenkaart® systeem gewerkt. &nbsp;</p><p>Meld je aan, doe lekker mee en <strong>ervaar dat wandelen &amp; bewegen ook jouw motor van je gezondheid is! Je bent van harte welkom.</strong></p><p><strong>Aanmelden via:</strong>&nbsp;https://www.vitamotionnow.nl/gratis-kenningsmakingwandeling/</p><p><strong>Informatie:</strong> 06-51406671 of ruud.goedkoop@ziggo.nl</p>
DESCRIPTION:<a href='/agenda/2022/8/3/kralingseveer-gezamenlijk-aan-de-wandel-43072'>/agenda/2022/8/3/kralingseveer-gezamenlijk-aan-de-wandel-43072</a> || <p><strong>VitaMotionNow</strong> organiseert en begeleid wekelijks diverse wandel en beweeg activiteiten in Capelle aan den IJssel, Krimpen aan den IJssel en Rotterdam.&nbsp;</p><p>Met ingang van <strong>woensdagmiddag 3 augustus 14:30 uur</strong>, wordt er gestart met een wekelijks wandelinitiatief vanuit Kralingseveer met vertrek en eindpunt <strong>Buurt- en Speeltuinvereniging Kralingseveer</strong>. Elke volgende woensdagmiddag na de startdatum kan men aansluiten.&nbsp;</p><p>Het doel is om zoveel mogelijk mensen uit Kralingseveer en omstreken wekelijks aan het wandelen te krijgen en vooral ook te houden, en hen zo de <strong>vele positieve effecten van bewegen op hun gezondheid te laten ervaren. </strong></p><p>Denk hierbij aan een betere nachtrust, meer energie, betere ademhaling, je lekkerder in je vel voelen, conditie verbetering, daling van je bloeddruk, lagere en betere bloedsuikerwaarden, gewichtsverlies, het verkrijgen van soepelere spieren en afname van stress.&nbsp;</p><p>Daarnaast ook een <strong>toename van je sociale contacten</strong>, wekelijks lekker sportief bezig zijn en ook nog eens <strong>veel plezier en gezelligheid ervaren</strong>.&nbsp;</p><p>Na afloop is er de mogelijkheid om gezamenlijk een koffie of thee te drinken en nog even gezellig na te praten. &nbsp;De wekelijkse wandeling wordt <strong>begeleid door een ervaren wandel &amp; beweegcoach. </strong></p><p>De <strong>1e wandeling is altijd gratis en vrijblijvend</strong>. Daarna wordt er met een WandelStrippenkaart® systeem gewerkt. &nbsp;</p><p>Meld je aan, doe lekker mee en <strong>ervaar dat wandelen &amp; bewegen ook jouw motor van je gezondheid is! Je bent van harte welkom.</strong></p><p><strong>Aanmelden via:</strong>&nbsp;https://www.vitamotionnow.nl/gratis-kenningsmakingwandeling/</p><p><strong>Informatie:</strong> 06-51406671 of ruud.goedkoop@ziggo.nl</p>
LAST-MODIFIED:20260421T164721Z
LOCATION: Buurt & Speeltuinvereniging Kralingseveer | Giraffestraat 45 Rotterdam
SEQUENCE:0
STATUS:CONFIRMED
SUMMARY:kralingseveer gezamenlijk aan de wandel
TRANSP:OPAQUE
END:VEVENT
END:VCALENDAR
